BEGIN:VCALENDAR
VERSION:2.0
PRODID:-//Office of Diaconate - ECPv6.15.18//NONSGML v1.0//EN
CALSCALE:GREGORIAN
METHOD:PUBLISH
X-ORIGINAL-URL:https://camdendeacon.org
X-WR-CALDESC:Events for Office of Diaconate
REFRESH-INTERVAL;VALUE=DURATION:PT1H
X-Robots-Tag:noindex
X-PUBLISHED-TTL:PT1H
BEGIN:VTIMEZONE
TZID:America/New_York
BEGIN:DAYLIGHT
TZOFFSETFROM:-0500
TZOFFSETTO:-0400
TZNAME:EDT
DTSTART:20220313T070000
END:DAYLIGHT
BEGIN:STANDARD
TZOFFSETFROM:-0400
TZOFFSETTO:-0500
TZNAME:EST
DTSTART:20221106T060000
END:STANDARD
BEGIN:DAYLIGHT
TZOFFSETFROM:-0500
TZOFFSETTO:-0400
TZNAME:EDT
DTSTART:20230312T070000
END:DAYLIGHT
BEGIN:STANDARD
TZOFFSETFROM:-0400
TZOFFSETTO:-0500
TZNAME:EST
DTSTART:20231105T060000
END:STANDARD
BEGIN:DAYLIGHT
TZOFFSETFROM:-0500
TZOFFSETTO:-0400
TZNAME:EDT
DTSTART:20240310T070000
END:DAYLIGHT
BEGIN:STANDARD
TZOFFSETFROM:-0400
TZOFFSETTO:-0500
TZNAME:EST
DTSTART:20241103T060000
END:STANDARD
END:VTIMEZONE
BEGIN:VEVENT
DTSTART;VALUE=DATE:20231206
DTEND;VALUE=DATE:20231207
DTSTAMP:20260424T175952
CREATED:20230821T194914Z
LAST-MODIFIED:20230821T194914Z
UID:5719-1701820800-1701907199@camdendeacon.org
SUMMARY:Priests in Residence Nazareth House
DESCRIPTION:
URL:https://camdendeacon.org/event/priests-in-residence-nazareth-house-3/
CATEGORIES:Daily Prayer Intentions
END:VEVENT
BEGIN:VEVENT
DTSTART;VALUE=DATE:20231205
DTEND;VALUE=DATE:20231206
DTSTAMP:20260424T175952
CREATED:20230821T194815Z
LAST-MODIFIED:20230821T194815Z
UID:5717-1701734400-1701820799@camdendeacon.org
SUMMARY:Deacon John H. Harrington (d. 2020) & Mrs. Nancy Harrington
DESCRIPTION:
URL:https://camdendeacon.org/event/deacon-john-h-harrington-d-2020-mrs-nancy-harrington-2/
CATEGORIES:Daily Prayer Intentions
END:VEVENT
BEGIN:VEVENT
DTSTART;VALUE=DATE:20231204
DTEND;VALUE=DATE:20231205
DTSTAMP:20260424T175952
CREATED:20230821T194654Z
LAST-MODIFIED:20230919T175237Z
UID:5715-1701648000-1701734399@camdendeacon.org
SUMMARY:Deacon Joseph Beebe (d. 2021) & Mrs. Donna Beebe
DESCRIPTION:
URL:https://camdendeacon.org/event/deacon-joseph-d-2021-mrs-donna-beebe/
CATEGORIES:Daily Prayer Intentions
END:VEVENT
BEGIN:VEVENT
DTSTART;VALUE=DATE:20231203
DTEND;VALUE=DATE:20231204
DTSTAMP:20260424T175952
CREATED:20230821T194547Z
LAST-MODIFIED:20230821T194547Z
UID:5713-1701561600-1701647999@camdendeacon.org
SUMMARY:Intentions of Bishop Sullivan
DESCRIPTION:
URL:https://camdendeacon.org/event/intentions-of-bishop-sullivan-7/
CATEGORIES:Daily Prayer Intentions
END:VEVENT
BEGIN:VEVENT
DTSTART;VALUE=DATE:20231202
DTEND;VALUE=DATE:20231203
DTSTAMP:20260424T175952
CREATED:20230821T194456Z
LAST-MODIFIED:20230821T194456Z
UID:5711-1701475200-1701561599@camdendeacon.org
SUMMARY:Deacon Paul K. Lee (d. 2021) & Mrs. Theresa Lee
DESCRIPTION:
URL:https://camdendeacon.org/event/deacon-paul-k-lee-d-2021-mrs-theresa-lee-2/
CATEGORIES:Daily Prayer Intentions
END:VEVENT
BEGIN:VEVENT
DTSTART;VALUE=DATE:20231201
DTEND;VALUE=DATE:20231202
DTSTAMP:20260424T175952
CREATED:20230821T194402Z
LAST-MODIFIED:20230821T194402Z
UID:5709-1701388800-1701475199@camdendeacon.org
SUMMARY:Deacon Joseph R. Pierce (2017) & Mrs. Lynne Pierce (d. 2000)
DESCRIPTION:
URL:https://camdendeacon.org/event/deacon-joseph-r-pierce-2017-mrs-lynne-pierce-d-2000/
CATEGORIES:Daily Prayer Intentions
END:VEVENT
BEGIN:VEVENT
DTSTART;VALUE=DATE:20231130
DTEND;VALUE=DATE:20231201
DTSTAMP:20260424T175952
CREATED:20230523T161334Z
LAST-MODIFIED:20230523T161334Z
UID:5692-1701302400-1701388799@camdendeacon.org
SUMMARY:For an increase in vocations to the diaconate
DESCRIPTION:
URL:https://camdendeacon.org/event/for-an-increase-in-vocations-to-the-diaconate-4/
CATEGORIES:Daily Prayer Intentions
END:VEVENT
BEGIN:VEVENT
DTSTART;VALUE=DATE:20231129
DTEND;VALUE=DATE:20231130
DTSTAMP:20260424T175952
CREATED:20230523T160941Z
LAST-MODIFIED:20230919T175050Z
UID:5690-1701216000-1701302399@camdendeacon.org
SUMMARY:Faculty and Students Paul VI High School
DESCRIPTION:
URL:https://camdendeacon.org/event/falculty-and-students-paul-vi-high-school/
CATEGORIES:Daily Prayer Intentions
END:VEVENT
BEGIN:VEVENT
DTSTART;VALUE=DATE:20231128
DTEND;VALUE=DATE:20231129
DTSTAMP:20260424T175952
CREATED:20230523T142332Z
LAST-MODIFIED:20230523T142332Z
UID:5688-1701129600-1701215999@camdendeacon.org
SUMMARY:Deacon John H. Gotthold (d. 1977) & Mrs. Margaret Gotthold (d. 2019); Deacon Joseph A. Conway (d. 1989) & Mrs. Constance Conway (d.)
DESCRIPTION:
URL:https://camdendeacon.org/event/deacon-john-h-gotthold-d-1977-deacon-joseph-a-conway-d-1989-mrs-constance-conway-d-2/
CATEGORIES:Daily Prayer Intentions
END:VEVENT
BEGIN:VEVENT
DTSTART;VALUE=DATE:20231127
DTEND;VALUE=DATE:20231128
DTSTAMP:20260424T175952
CREATED:20230523T141557Z
LAST-MODIFIED:20230523T141557Z
UID:5686-1701043200-1701129599@camdendeacon.org
SUMMARY:Faculty and Students Saint Augustine Prep
DESCRIPTION:
URL:https://camdendeacon.org/event/faculty-and-students-saint-augustine-prep/
CATEGORIES:Daily Prayer Intentions
END:VEVENT
BEGIN:VEVENT
DTSTART;VALUE=DATE:20231126
DTEND;VALUE=DATE:20231127
DTSTAMP:20260424T175952
CREATED:20230523T141459Z
LAST-MODIFIED:20230523T141459Z
UID:5684-1700956800-1701043199@camdendeacon.org
SUMMARY:Deacon Pablo Berrios (d. 2013) & Mrs. Ana Berrios
DESCRIPTION:
URL:https://camdendeacon.org/event/deacon-pablo-berrios-d-2013-mrs-ana-berrios-2/
CATEGORIES:Daily Prayer Intentions
END:VEVENT
BEGIN:VEVENT
DTSTART;VALUE=DATE:20231125
DTEND;VALUE=DATE:20231126
DTSTAMP:20260424T175952
CREATED:20230523T140545Z
LAST-MODIFIED:20230523T140545Z
UID:5682-1700870400-1700956799@camdendeacon.org
SUMMARY:Priests and Parishioners of Notre Dame de la Mer Parish
DESCRIPTION:
URL:https://camdendeacon.org/event/priests-and-parishioners-of-notre-dame-de-la-mer-parish-3/
CATEGORIES:Daily Prayer Intentions
END:VEVENT
BEGIN:VEVENT
DTSTART;VALUE=DATE:20231124
DTEND;VALUE=DATE:20231125
DTSTAMP:20260424T175952
CREATED:20230517T162736Z
LAST-MODIFIED:20230517T162736Z
UID:5678-1700784000-1700870399@camdendeacon.org
SUMMARY:Faculty and Students Bishop Eustace
DESCRIPTION:
URL:https://camdendeacon.org/event/faculty-and-students-bishop-eustace-2/
CATEGORIES:Daily Prayer Intentions
END:VEVENT
BEGIN:VEVENT
DTSTART;VALUE=DATE:20231123
DTEND;VALUE=DATE:20231124
DTSTAMP:20260424T175952
CREATED:20230517T162404Z
LAST-MODIFIED:20230517T162404Z
UID:5676-1700697600-1700783999@camdendeacon.org
SUMMARY:Deacon Jose Rene & Maritza Zayas
DESCRIPTION:
URL:https://camdendeacon.org/event/deacon-jose-rene-maritza-zayas-2/
CATEGORIES:Daily Prayer Intentions
END:VEVENT
BEGIN:VEVENT
DTSTART;VALUE=DATE:20231122
DTEND;VALUE=DATE:20231123
DTSTAMP:20260424T175952
CREATED:20230517T162316Z
LAST-MODIFIED:20230517T162316Z
UID:5674-1700611200-1700697599@camdendeacon.org
SUMMARY:Faculty and Students Gloucester Catholic High School
DESCRIPTION:
URL:https://camdendeacon.org/event/faculty-and-students-gloucester-catholic-high-school-2/
CATEGORIES:Daily Prayer Intentions
END:VEVENT
BEGIN:VEVENT
DTSTART;VALUE=DATE:20231121
DTEND;VALUE=DATE:20231122
DTSTAMP:20260424T175952
CREATED:20230517T161442Z
LAST-MODIFIED:20230517T161442Z
UID:5672-1700524800-1700611199@camdendeacon.org
SUMMARY:Deacon Richard J. & Janet Wigglesworth
DESCRIPTION:
URL:https://camdendeacon.org/event/deacon-richard-j-janet-wigglesworth-2/
CATEGORIES:Daily Prayer Intentions
END:VEVENT
BEGIN:VEVENT
DTSTART;VALUE=DATE:20231120
DTEND;VALUE=DATE:20231121
DTSTAMP:20260424T175952
CREATED:20230517T161346Z
LAST-MODIFIED:20230517T161346Z
UID:5670-1700438400-1700524799@camdendeacon.org
SUMMARY:Deacon Richard A. & Karen Wigglesworth
DESCRIPTION:
URL:https://camdendeacon.org/event/deacon-richard-a-karen-wigglesworth-2/
CATEGORIES:Daily Prayer Intentions
END:VEVENT
BEGIN:VEVENT
DTSTART;VALUE=DATE:20231119
DTEND;VALUE=DATE:20231120
DTSTAMP:20260424T175952
CREATED:20230517T161257Z
LAST-MODIFIED:20230517T161257Z
UID:5668-1700352000-1700438399@camdendeacon.org
SUMMARY:Deacon Theodore Mija (d. 2002) & Mrs. Bettie Mija (d. 2020)
DESCRIPTION:
URL:https://camdendeacon.org/event/deacon-theodore-mija-d-2002-mrs-bettie-mija-d-2020-2/
CATEGORIES:Daily Prayer Intentions
END:VEVENT
BEGIN:VEVENT
DTSTART;TZID=America/New_York:20231118T080000
DTEND;TZID=America/New_York:20231118T170000
DTSTAMP:20260424T175952
CREATED:20230517T134145Z
LAST-MODIFIED:20230517T134145Z
UID:5665-1700294400-1700326800@camdendeacon.org
SUMMARY:Deacon John Werner F. Werner & Mrs. Joanne Werner (d. 2023)
DESCRIPTION:
URL:https://camdendeacon.org/event/deacon-john-werner-f-werner-mrs-joanne-werner-d-2023/
CATEGORIES:Daily Prayer Intentions
END:VEVENT
BEGIN:VEVENT
DTSTART;VALUE=DATE:20231117
DTEND;VALUE=DATE:20231118
DTSTAMP:20260424T175952
CREATED:20230510T183640Z
LAST-MODIFIED:20230510T183640Z
UID:5661-1700179200-1700265599@camdendeacon.org
SUMMARY:Priests and Parishioners of Saints Peter & Paul Parish
DESCRIPTION:
URL:https://camdendeacon.org/event/priests-and-parishioners-of-saints-peter-paul-parish-2/
CATEGORIES:Daily Prayer Intentions
END:VEVENT
BEGIN:VEVENT
DTSTART;VALUE=DATE:20231116
DTEND;VALUE=DATE:20231117
DTSTAMP:20260424T175952
CREATED:20230509T182022Z
LAST-MODIFIED:20230509T182022Z
UID:5659-1700092800-1700179199@camdendeacon.org
SUMMARY:Intentions of the Diaconate Community
DESCRIPTION:
URL:https://camdendeacon.org/event/intentions-of-the-diaconate-community-12/
CATEGORIES:Daily Prayer Intentions
END:VEVENT
BEGIN:VEVENT
DTSTART;VALUE=DATE:20231115
DTEND;VALUE=DATE:20231116
DTSTAMP:20260424T175952
CREATED:20230508T194545Z
LAST-MODIFIED:20230508T194545Z
UID:5657-1700006400-1700092799@camdendeacon.org
SUMMARY:Deacon Joseph H. & Marilyn Webb
DESCRIPTION:
URL:https://camdendeacon.org/event/deacon-joseph-h-marilyn-webb-2/
CATEGORIES:Daily Prayer Intentions
END:VEVENT
BEGIN:VEVENT
DTSTART;VALUE=DATE:20231114
DTEND;VALUE=DATE:20231115
DTSTAMP:20260424T175952
CREATED:20230508T194345Z
LAST-MODIFIED:20230508T194345Z
UID:5655-1699920000-1700006399@camdendeacon.org
SUMMARY:Priests and Parishioners of Saint Thomas More Parish
DESCRIPTION:
URL:https://camdendeacon.org/event/priests-and-parishioners-of-saint-thomas-more-parish-2/
CATEGORIES:Daily Prayer Intentions
END:VEVENT
BEGIN:VEVENT
DTSTART;VALUE=DATE:20231113
DTEND;VALUE=DATE:20231114
DTSTAMP:20260424T175952
CREATED:20230508T193628Z
LAST-MODIFIED:20230508T193628Z
UID:5653-1699833600-1699919999@camdendeacon.org
SUMMARY:Deacon Edward J. Harkins (d. 2008) & Mrs. Mary Hope Harkins (d. 2001)
DESCRIPTION:
URL:https://camdendeacon.org/event/deacon-edward-j-harkins-d-2008-mrs-mary-hope-harkins-d-2001-2/
CATEGORIES:Daily Prayer Intentions
END:VEVENT
BEGIN:VEVENT
DTSTART;VALUE=DATE:20231112
DTEND;VALUE=DATE:20231113
DTSTAMP:20260424T175952
CREATED:20230508T193522Z
LAST-MODIFIED:20230508T193522Z
UID:5651-1699747200-1699833599@camdendeacon.org
SUMMARY:Deacon Joseph J. Izzo (d. 2016) & Mrs. Anja Izzo (d. 2000)
DESCRIPTION:
URL:https://camdendeacon.org/event/deacon-joseph-j-izzo-d-2016-mrs-anja-izzo-d-2000/
CATEGORIES:Daily Prayer Intentions
END:VEVENT
BEGIN:VEVENT
DTSTART;VALUE=DATE:20231111
DTEND;VALUE=DATE:20231112
DTSTAMP:20260424T175952
CREATED:20230508T193423Z
LAST-MODIFIED:20230508T193423Z
UID:5649-1699660800-1699747199@camdendeacon.org
SUMMARY:All deceased Deacons of the Diocese of Camden
DESCRIPTION:
URL:https://camdendeacon.org/event/all-deceased-deacons-of-the-diocese-of-camden-2/
CATEGORIES:Daily Prayer Intentions
END:VEVENT
BEGIN:VEVENT
DTSTART;VALUE=DATE:20231110
DTEND;VALUE=DATE:20231111
DTSTAMP:20260424T175952
CREATED:20230508T192859Z
LAST-MODIFIED:20230508T192859Z
UID:5647-1699574400-1699660799@camdendeacon.org
SUMMARY:Deacon Rocco A. Mangino (d. 2006) & Mrs. Christine Mangino
DESCRIPTION:
URL:https://camdendeacon.org/event/deacon-rocco-a-mangino-d-2006-mrs-christine-mangino-2/
CATEGORIES:Daily Prayer Intentions
END:VEVENT
BEGIN:VEVENT
DTSTART;VALUE=DATE:20231109
DTEND;VALUE=DATE:20231110
DTSTAMP:20260424T175952
CREATED:20230508T192803Z
LAST-MODIFIED:20230508T192803Z
UID:5645-1699488000-1699574399@camdendeacon.org
SUMMARY:Priests and Parishioners of Saint Stephen Parish
DESCRIPTION:
URL:https://camdendeacon.org/event/priests-and-parishioners-of-saint-stephen-parish-2/
CATEGORIES:Daily Prayer Intentions
END:VEVENT
BEGIN:VEVENT
DTSTART;VALUE=DATE:20231108
DTEND;VALUE=DATE:20231109
DTSTAMP:20260424T175952
CREATED:20230508T192701Z
LAST-MODIFIED:20230508T192701Z
UID:5643-1699401600-1699487999@camdendeacon.org
SUMMARY:All deceased Priests of the Diocese of Camden
DESCRIPTION:
URL:https://camdendeacon.org/event/all-deceased-priests-of-the-diocese-of-camden-2/
CATEGORIES:Daily Prayer Intentions
END:VEVENT
BEGIN:VEVENT
DTSTART;VALUE=DATE:20231107
DTEND;VALUE=DATE:20231108
DTSTAMP:20260424T175952
CREATED:20230508T192608Z
LAST-MODIFIED:20230508T192608Z
UID:5641-1699315200-1699401599@camdendeacon.org
SUMMARY:Intentions of the Diaconate Community
DESCRIPTION:
URL:https://camdendeacon.org/event/intentions-of-the-diaconate-community-11/
CATEGORIES:Daily Prayer Intentions
END:VEVENT
END:VCALENDAR