BEGIN:VCALENDAR
VERSION:2.0
PRODID:-//Office of Diaconate - ECPv6.15.18//NONSGML v1.0//EN
CALSCALE:GREGORIAN
METHOD:PUBLISH
X-WR-CALNAME:Office of Diaconate
X-ORIGINAL-URL:https://camdendeacon.org
X-WR-CALDESC:Events for Office of Diaconate
REFRESH-INTERVAL;VALUE=DURATION:PT1H
X-Robots-Tag:noindex
X-PUBLISHED-TTL:PT1H
BEGIN:VTIMEZONE
TZID:America/New_York
BEGIN:DAYLIGHT
TZOFFSETFROM:-0500
TZOFFSETTO:-0400
TZNAME:EDT
DTSTART:20220313T070000
END:DAYLIGHT
BEGIN:STANDARD
TZOFFSETFROM:-0400
TZOFFSETTO:-0500
TZNAME:EST
DTSTART:20221106T060000
END:STANDARD
BEGIN:DAYLIGHT
TZOFFSETFROM:-0500
TZOFFSETTO:-0400
TZNAME:EDT
DTSTART:20230312T070000
END:DAYLIGHT
BEGIN:STANDARD
TZOFFSETFROM:-0400
TZOFFSETTO:-0500
TZNAME:EST
DTSTART:20231105T060000
END:STANDARD
BEGIN:DAYLIGHT
TZOFFSETFROM:-0500
TZOFFSETTO:-0400
TZNAME:EDT
DTSTART:20240310T070000
END:DAYLIGHT
BEGIN:STANDARD
TZOFFSETFROM:-0400
TZOFFSETTO:-0500
TZNAME:EST
DTSTART:20241103T060000
END:STANDARD
END:VTIMEZONE
BEGIN:VEVENT
DTSTART;VALUE=DATE:20230913
DTEND;VALUE=DATE:20230914
DTSTAMP:20260425T094944
CREATED:20230321T155214Z
LAST-MODIFIED:20230321T155214Z
UID:5512-1694563200-1694649599@camdendeacon.org
SUMMARY:Faculty and Students Atlantic County Catholic Elementary Schools
DESCRIPTION:
URL:https://camdendeacon.org/event/faculty-and-students-atlantic-county-catholic-elementary-schools/
CATEGORIES:Daily Prayer Intentions
END:VEVENT
BEGIN:VEVENT
DTSTART;VALUE=DATE:20230912
DTEND;VALUE=DATE:20230913
DTSTAMP:20260425T094944
CREATED:20230501T184109Z
LAST-MODIFIED:20230501T184109Z
UID:5583-1694476800-1694563199@camdendeacon.org
SUMMARY:Deacon Samuel & Rose Soto
DESCRIPTION:
URL:https://camdendeacon.org/event/deacon-samuel-rose-soto-2/
CATEGORIES:Daily Prayer Intentions
END:VEVENT
BEGIN:VEVENT
DTSTART;VALUE=DATE:20230912
DTEND;VALUE=DATE:20230913
DTSTAMP:20260425T094944
CREATED:20230320T193019Z
LAST-MODIFIED:20230320T193019Z
UID:5509-1694476800-1694563199@camdendeacon.org
SUMMARY:Faculty & Students Cape May County Catholic Elementary Schools
DESCRIPTION:
URL:https://camdendeacon.org/event/faculty-students-cape-may-county-catholic-elementary-schools-2/
CATEGORIES:Daily Prayer Intentions
END:VEVENT
BEGIN:VEVENT
DTSTART;VALUE=DATE:20230911
DTEND;VALUE=DATE:20230912
DTSTAMP:20260425T094944
CREATED:20230320T192837Z
LAST-MODIFIED:20230321T154828Z
UID:5507-1694390400-1694476799@camdendeacon.org
SUMMARY:Deacon John C. Justice (d. 1993) & Deacon Emil A. Ralbusky (d. 2015) & Mrs. Marie Ralbusky
DESCRIPTION:
URL:https://camdendeacon.org/event/deacon-john-c-justice-d-1933-deacon-emil-a-ralbusky-d-2015-mrs-marie-ralbusky/
CATEGORIES:Daily Prayer Intentions
END:VEVENT
BEGIN:VEVENT
DTSTART;VALUE=DATE:20230910
DTEND;VALUE=DATE:20230911
DTSTAMP:20260425T094944
CREATED:20230320T191525Z
LAST-MODIFIED:20230320T191525Z
UID:5505-1694304000-1694390399@camdendeacon.org
SUMMARY:Priests and Parishioners of Sacred Heart Parish
DESCRIPTION:
URL:https://camdendeacon.org/event/priests-and-parishioners-of-sacred-heart-parish-2/
CATEGORIES:Daily Prayer Intentions
END:VEVENT
BEGIN:VEVENT
DTSTART;VALUE=DATE:20230909
DTEND;VALUE=DATE:20230910
DTSTAMP:20260425T094944
CREATED:20230320T190729Z
LAST-MODIFIED:20230320T190729Z
UID:5503-1694217600-1694303999@camdendeacon.org
SUMMARY:Deacon Arnaldo A. & Maribel Santos
DESCRIPTION:
URL:https://camdendeacon.org/event/deacon-arnaldo-a-maribel-santos-2/
CATEGORIES:Daily Prayer Intentions
END:VEVENT
BEGIN:VEVENT
DTSTART;VALUE=DATE:20230908
DTEND;VALUE=DATE:20230909
DTSTAMP:20260425T094944
CREATED:20230320T162117Z
LAST-MODIFIED:20230320T162117Z
UID:5501-1694131200-1694217599@camdendeacon.org
SUMMARY:Faculty and Students Wildwood Catholic High School
DESCRIPTION:
URL:https://camdendeacon.org/event/faculty-and-students-wildwood-catholic-high-school-2/
CATEGORIES:Daily Prayer Intentions
END:VEVENT
BEGIN:VEVENT
DTSTART;VALUE=DATE:20230907
DTEND;VALUE=DATE:20230908
DTSTAMP:20260425T094944
CREATED:20230320T162016Z
LAST-MODIFIED:20230320T162016Z
UID:5499-1694044800-1694131199@camdendeacon.org
SUMMARY:Deacon John J. Leyden (d. 2012) & Mrs. Helen Leyden
DESCRIPTION:
URL:https://camdendeacon.org/event/deacon-john-j-leyden-d-2012-mrs-helen-leyden-2/
CATEGORIES:Daily Prayer Intentions
END:VEVENT
BEGIN:VEVENT
DTSTART;VALUE=DATE:20230906
DTEND;VALUE=DATE:20230907
DTSTAMP:20260425T094944
CREATED:20230320T161931Z
LAST-MODIFIED:20230320T161931Z
UID:5497-1693958400-1694044799@camdendeacon.org
SUMMARY:Deacon Richard T. & Janet Sampson
DESCRIPTION:
URL:https://camdendeacon.org/event/deacon-richard-t-janet-sampson-2/
CATEGORIES:Daily Prayer Intentions
END:VEVENT
BEGIN:VEVENT
DTSTART;VALUE=DATE:20230905
DTEND;VALUE=DATE:20230906
DTSTAMP:20260425T094944
CREATED:20230320T161704Z
LAST-MODIFIED:20230320T161704Z
UID:5495-1693872000-1693958399@camdendeacon.org
SUMMARY:Faculty and Students Camden Catholic High School
DESCRIPTION:
URL:https://camdendeacon.org/event/faculty-and-students-camden-catholic-high-school/
CATEGORIES:Daily Prayer Intentions
END:VEVENT
BEGIN:VEVENT
DTSTART;VALUE=DATE:20230904
DTEND;VALUE=DATE:20230905
DTSTAMP:20260425T094944
CREATED:20230320T161607Z
LAST-MODIFIED:20230320T161607Z
UID:5493-1693785600-1693871999@camdendeacon.org
SUMMARY:Priests and Parishioners of Holy Child Parish
DESCRIPTION:
URL:https://camdendeacon.org/event/priests-and-parishioners-of-holy-child-parish-2/
CATEGORIES:Daily Prayer Intentions
END:VEVENT
BEGIN:VEVENT
DTSTART;VALUE=DATE:20230903
DTEND;VALUE=DATE:20230904
DTSTAMP:20260425T094944
CREATED:20230320T161522Z
LAST-MODIFIED:20230320T161522Z
UID:5491-1693699200-1693785599@camdendeacon.org
SUMMARY:Rev. Frederick Link\, past Diaconate Director
DESCRIPTION:
URL:https://camdendeacon.org/event/rev-frederick-link-past-diaconate-director-2/
CATEGORIES:Daily Prayer Intentions
END:VEVENT
BEGIN:VEVENT
DTSTART;VALUE=DATE:20230902
DTEND;VALUE=DATE:20230903
DTSTAMP:20260425T094944
CREATED:20230320T161428Z
LAST-MODIFIED:20230320T161428Z
UID:5489-1693612800-1693699199@camdendeacon.org
SUMMARY:Faculty and Students Our Lady of Mercy Academy
DESCRIPTION:
URL:https://camdendeacon.org/event/faculty-and-students-our-lady-of-mercy-academy-2/
CATEGORIES:Daily Prayer Intentions
END:VEVENT
BEGIN:VEVENT
DTSTART;VALUE=DATE:20230901
DTEND;VALUE=DATE:20230902
DTSTAMP:20260425T094944
CREATED:20230320T161319Z
LAST-MODIFIED:20230320T161319Z
UID:5487-1693526400-1693612799@camdendeacon.org
SUMMARY:Deacon William J. Rumaker & Mrs. Marie Rumaker (d. 2018)
DESCRIPTION:
URL:https://camdendeacon.org/event/deacon-william-j-rumaker-mrs-marie-rumaker-d-2018/
CATEGORIES:Daily Prayer Intentions
END:VEVENT
BEGIN:VEVENT
DTSTART;VALUE=DATE:20230831
DTEND;VALUE=DATE:20230901
DTSTAMP:20260425T094944
CREATED:20230208T184329Z
LAST-MODIFIED:20230208T184329Z
UID:5463-1693440000-1693526399@camdendeacon.org
SUMMARY:Priests and Parishioners of Our Lady of Peace Parish
DESCRIPTION:
URL:https://camdendeacon.org/event/priests-and-parishioners-of-our-lady-of-peace-parish-2/
CATEGORIES:Daily Prayer Intentions
END:VEVENT
BEGIN:VEVENT
DTSTART;VALUE=DATE:20230830
DTEND;VALUE=DATE:20230831
DTSTAMP:20260425T094944
CREATED:20230208T184247Z
LAST-MODIFIED:20230208T184247Z
UID:5461-1693353600-1693439999@camdendeacon.org
SUMMARY:Priests and Parishioners of Saint Simon Stock Parish
DESCRIPTION:
URL:https://camdendeacon.org/event/priests-and-parishioners-of-saint-simon-stock-parish-2/
CATEGORIES:Daily Prayer Intentions
END:VEVENT
BEGIN:VEVENT
DTSTART;VALUE=DATE:20230829
DTEND;VALUE=DATE:20230830
DTSTAMP:20260425T094944
CREATED:20230208T184212Z
LAST-MODIFIED:20230208T184212Z
UID:5459-1693267200-1693353599@camdendeacon.org
SUMMARY:Monsignor Dominic Bottino\, past Diaconate Director
DESCRIPTION:
URL:https://camdendeacon.org/event/monsignor-dominic-bottino-past-diaconate-director/
CATEGORIES:Daily Prayer Intentions
END:VEVENT
BEGIN:VEVENT
DTSTART;VALUE=DATE:20230828
DTEND;VALUE=DATE:20230829
DTSTAMP:20260425T094944
CREATED:20230208T184124Z
LAST-MODIFIED:20230208T184124Z
UID:5457-1693180800-1693267199@camdendeacon.org
SUMMARY:Priests and Parishioners of Saint Padre Pio Parish
DESCRIPTION:
URL:https://camdendeacon.org/event/priests-and-parishioners-of-saint-padre-pio-parish-2/
CATEGORIES:Daily Prayer Intentions
END:VEVENT
BEGIN:VEVENT
DTSTART;VALUE=DATE:20230827
DTEND;VALUE=DATE:20230828
DTSTAMP:20260425T094944
CREATED:20230208T184043Z
LAST-MODIFIED:20230208T184043Z
UID:5455-1693094400-1693180799@camdendeacon.org
SUMMARY:Reverend James Smith\, Chaplain for Diaconate (d. 2014)
DESCRIPTION:
URL:https://camdendeacon.org/event/reverend-james-smith-chaplain-for-diaconate-d-2014-2/
CATEGORIES:Daily Prayer Intentions
END:VEVENT
BEGIN:VEVENT
DTSTART;VALUE=DATE:20230826
DTEND;VALUE=DATE:20230827
DTSTAMP:20260425T094944
CREATED:20230208T170649Z
LAST-MODIFIED:20230208T170649Z
UID:5453-1693008000-1693094399@camdendeacon.org
SUMMARY:Deacon Peter J. Gilmartin (d. 2004) & Mrs. Jacqueline Gilmartin
DESCRIPTION:
URL:https://camdendeacon.org/event/deacon-peter-j-gilmartin-d-2004-mrs-jacqueline-gilmartin-2/
CATEGORIES:Daily Prayer Intentions
END:VEVENT
BEGIN:VEVENT
DTSTART;VALUE=DATE:20230825
DTEND;VALUE=DATE:20230826
DTSTAMP:20260425T094944
CREATED:20230208T170152Z
LAST-MODIFIED:20230208T170152Z
UID:5451-1692921600-1693007999@camdendeacon.org
SUMMARY:Deacon Roberto & Luz Rodriguez
DESCRIPTION:
URL:https://camdendeacon.org/event/deacon-roberto-luz-rodriguez-2/
CATEGORIES:Daily Prayer Intentions
END:VEVENT
BEGIN:VEVENT
DTSTART;VALUE=DATE:20230824
DTEND;VALUE=DATE:20230825
DTSTAMP:20260425T094944
CREATED:20230208T170116Z
LAST-MODIFIED:20230208T170116Z
UID:5449-1692835200-1692921599@camdendeacon.org
SUMMARY:Priests and Parishioners of Saint Damien Parish
DESCRIPTION:
URL:https://camdendeacon.org/event/priests-and-parishioners-of-saint-damien-parish-2/
CATEGORIES:Daily Prayer Intentions
END:VEVENT
BEGIN:VEVENT
DTSTART;VALUE=DATE:20230823
DTEND;VALUE=DATE:20230824
DTSTAMP:20260425T094944
CREATED:20230208T165958Z
LAST-MODIFIED:20230208T165958Z
UID:5447-1692748800-1692835199@camdendeacon.org
SUMMARY:Deacon Richard B. & Elizabeth Roenbeck
DESCRIPTION:
URL:https://camdendeacon.org/event/deacon-richard-b-elizabeth-roenbeck/
CATEGORIES:Daily Prayer Intentions
END:VEVENT
BEGIN:VEVENT
DTSTART;TZID=America/New_York:20230822T080000
DTEND;TZID=America/New_York:20230822T170000
DTSTAMP:20260425T094944
CREATED:20230208T165917Z
LAST-MODIFIED:20230208T165917Z
UID:5445-1692691200-1692723600@camdendeacon.org
SUMMARY:Deacon Thomas S. Moleski (d. 2022)
DESCRIPTION:
URL:https://camdendeacon.org/event/deacon-thomas-s-moleski-d-2022/
CATEGORIES:Daily Prayer Intentions
END:VEVENT
BEGIN:VEVENT
DTSTART;VALUE=DATE:20230821
DTEND;VALUE=DATE:20230822
DTSTAMP:20260425T094944
CREATED:20230208T165829Z
LAST-MODIFIED:20230208T165829Z
UID:5443-1692576000-1692662399@camdendeacon.org
SUMMARY:Deacon John H. & Cathy Rocks
DESCRIPTION:
URL:https://camdendeacon.org/event/deacon-john-h-cathy-rocks/
CATEGORIES:Daily Prayer Intentions
END:VEVENT
BEGIN:VEVENT
DTSTART;VALUE=DATE:20230820
DTEND;VALUE=DATE:20230821
DTSTAMP:20260425T094944
CREATED:20230208T165739Z
LAST-MODIFIED:20230208T165739Z
UID:5441-1692489600-1692575999@camdendeacon.org
SUMMARY:Deacon Ronald J. Olesiewicz (d. 2011) & Mrs. Regina Olesiewicz (d. 2005)
DESCRIPTION:
URL:https://camdendeacon.org/event/deacon-ronald-j-olesiewicz-d-2011-mrs-regina-olesiewicz-d-2005-2/
CATEGORIES:Daily Prayer Intentions
END:VEVENT
BEGIN:VEVENT
DTSTART;VALUE=DATE:20230819
DTEND;VALUE=DATE:20230820
DTSTAMP:20260425T094944
CREATED:20230208T165332Z
LAST-MODIFIED:20230208T165332Z
UID:5439-1692403200-1692489599@camdendeacon.org
SUMMARY:Priests and Parishioners of Saint Monica Parish
DESCRIPTION:
URL:https://camdendeacon.org/event/priests-and-parishioners-of-saint-monica-parish-2/
CATEGORIES:Daily Prayer Intentions
END:VEVENT
BEGIN:VEVENT
DTSTART;VALUE=DATE:20230818
DTEND;VALUE=DATE:20230819
DTSTAMP:20260425T094944
CREATED:20230208T165249Z
LAST-MODIFIED:20230208T165249Z
UID:5437-1692316800-1692403199@camdendeacon.org
SUMMARY:Priests and Parishioners of Saint Mary of Mount Carmel Parish
DESCRIPTION:
URL:https://camdendeacon.org/event/priests-and-parishioners-of-saint-mary-of-mount-carmel-parish-2/
CATEGORIES:Daily Prayer Intentions
END:VEVENT
BEGIN:VEVENT
DTSTART;TZID=America/New_York:20230817T080000
DTEND;TZID=America/New_York:20230817T170000
DTSTAMP:20260425T094944
CREATED:20230208T165205Z
LAST-MODIFIED:20230208T165205Z
UID:5435-1692259200-1692291600@camdendeacon.org
SUMMARY:Priests and Parishioners of Saint Bridget Parish
DESCRIPTION:
URL:https://camdendeacon.org/event/priests-and-parishioners-of-saint-bridget-parish-2/
CATEGORIES:Daily Prayer Intentions
END:VEVENT
BEGIN:VEVENT
DTSTART;VALUE=DATE:20230816
DTEND;VALUE=DATE:20230817
DTSTAMP:20260425T094944
CREATED:20230208T165118Z
LAST-MODIFIED:20230208T165118Z
UID:5433-1692144000-1692230399@camdendeacon.org
SUMMARY:Priests and Parishioners of Saint Maximilian Kolbe Parish
DESCRIPTION:
URL:https://camdendeacon.org/event/priests-and-parishioners-of-saint-maximilian-kolbe-parish-2/
CATEGORIES:Daily Prayer Intentions
END:VEVENT
END:VCALENDAR