BEGIN:VCALENDAR
VERSION:2.0
PRODID:-//Office of Diaconate - ECPv6.15.18//NONSGML v1.0//EN
CALSCALE:GREGORIAN
METHOD:PUBLISH
X-WR-CALNAME:Office of Diaconate
X-ORIGINAL-URL:https://camdendeacon.org
X-WR-CALDESC:Events for Office of Diaconate
REFRESH-INTERVAL;VALUE=DURATION:PT1H
X-Robots-Tag:noindex
X-PUBLISHED-TTL:PT1H
BEGIN:VTIMEZONE
TZID:America/New_York
BEGIN:DAYLIGHT
TZOFFSETFROM:-0500
TZOFFSETTO:-0400
TZNAME:EDT
DTSTART:20220313T070000
END:DAYLIGHT
BEGIN:STANDARD
TZOFFSETFROM:-0400
TZOFFSETTO:-0500
TZNAME:EST
DTSTART:20221106T060000
END:STANDARD
BEGIN:DAYLIGHT
TZOFFSETFROM:-0500
TZOFFSETTO:-0400
TZNAME:EDT
DTSTART:20230312T070000
END:DAYLIGHT
BEGIN:STANDARD
TZOFFSETFROM:-0400
TZOFFSETTO:-0500
TZNAME:EST
DTSTART:20231105T060000
END:STANDARD
BEGIN:DAYLIGHT
TZOFFSETFROM:-0500
TZOFFSETTO:-0400
TZNAME:EDT
DTSTART:20240310T070000
END:DAYLIGHT
BEGIN:STANDARD
TZOFFSETFROM:-0400
TZOFFSETTO:-0500
TZNAME:EST
DTSTART:20241103T060000
END:STANDARD
END:VTIMEZONE
BEGIN:VEVENT
DTSTART;VALUE=DATE:20231019
DTEND;VALUE=DATE:20231020
DTSTAMP:20260424T205320
CREATED:20230508T162633Z
LAST-MODIFIED:20230508T162633Z
UID:5598-1697673600-1697759999@camdendeacon.org
SUMMARY:Deacon William C. Robinson (d. 2017) & Mrs. Sheila Robinson
DESCRIPTION:
URL:https://camdendeacon.org/event/deacon-william-c-robinson-d-2017-mrs-sheila-robinson-2/
CATEGORIES:Daily Prayer Intentions
END:VEVENT
BEGIN:VEVENT
DTSTART;VALUE=DATE:20231018
DTEND;VALUE=DATE:20231019
DTSTAMP:20260424T205320
CREATED:20230508T162517Z
LAST-MODIFIED:20230508T162517Z
UID:5596-1697587200-1697673599@camdendeacon.org
SUMMARY:Priests and Parishioners of Saint Katherine Drexel Parish
DESCRIPTION:
URL:https://camdendeacon.org/event/priests-and-parishioners-of-saint-katherine-drexel-parish-2/
CATEGORIES:Daily Prayer Intentions
END:VEVENT
BEGIN:VEVENT
DTSTART;VALUE=DATE:20231017
DTEND;VALUE=DATE:20231018
DTSTAMP:20260424T205320
CREATED:20230508T162408Z
LAST-MODIFIED:20230508T162408Z
UID:5594-1697500800-1697587199@camdendeacon.org
SUMMARY:Priests and Parishioners of Saint Andrew the Apostle Parish
DESCRIPTION:
URL:https://camdendeacon.org/event/priests-and-parishioners-of-saint-andrew-the-apostle-parish-2/
CATEGORIES:Daily Prayer Intentions
END:VEVENT
BEGIN:VEVENT
DTSTART;VALUE=DATE:20231016
DTEND;VALUE=DATE:20231017
DTSTAMP:20260424T205320
CREATED:20230501T192326Z
LAST-MODIFIED:20230501T192326Z
UID:5591-1697414400-1697500799@camdendeacon.org
SUMMARY:Priests and Parishioners of Saint Clare of Assisi
DESCRIPTION:
URL:https://camdendeacon.org/event/priests-and-parishioners-of-saint-clare-of-assisi/
CATEGORIES:Daily Prayer Intentions
END:VEVENT
BEGIN:VEVENT
DTSTART;VALUE=DATE:20231015
DTEND;VALUE=DATE:20231016
DTSTAMP:20260424T205320
CREATED:20230501T192239Z
LAST-MODIFIED:20230501T192239Z
UID:5589-1697328000-1697414399@camdendeacon.org
SUMMARY:Intentions of the deacons ordained on this date in 1988
DESCRIPTION:
URL:https://camdendeacon.org/event/intentions-of-the-deacons-ordained-on-this-date-in-1988-2/
CATEGORIES:Daily Prayer Intentions
END:VEVENT
BEGIN:VEVENT
DTSTART;VALUE=DATE:20231014
DTEND;VALUE=DATE:20231015
DTSTAMP:20260424T205320
CREATED:20230501T183841Z
LAST-MODIFIED:20230501T183841Z
UID:5579-1697241600-1697327999@camdendeacon.org
SUMMARY:Priests and Parishioners of Saint Joseph Pro-Cathedral
DESCRIPTION:
URL:https://camdendeacon.org/event/priests-and-parishioners-of-saint-joseph-pro-cathedral/
CATEGORIES:Daily Prayer Intentions
END:VEVENT
BEGIN:VEVENT
DTSTART;VALUE=DATE:20231013
DTEND;VALUE=DATE:20231014
DTSTAMP:20260424T205320
CREATED:20230501T184201Z
LAST-MODIFIED:20230501T184201Z
UID:5585-1697155200-1697241599@camdendeacon.org
SUMMARY:Deacon Samuel J. & Kyra Spoto
DESCRIPTION:
URL:https://camdendeacon.org/event/deacon-samuel-j-kyra-spoto-2/
CATEGORIES:Daily Prayer Intentions
END:VEVENT
BEGIN:VEVENT
DTSTART;VALUE=DATE:20231012
DTEND;VALUE=DATE:20231013
DTSTAMP:20260424T205320
CREATED:20230501T184535Z
LAST-MODIFIED:20230501T184535Z
UID:5587-1697068800-1697155199@camdendeacon.org
SUMMARY:Deacon Samuel & Rose Soto
DESCRIPTION:
URL:https://camdendeacon.org/event/deacon-samuel-rose-soto-3/
CATEGORIES:Daily Prayer Intentions
END:VEVENT
BEGIN:VEVENT
DTSTART;VALUE=DATE:20231011
DTEND;VALUE=DATE:20231012
DTSTAMP:20260424T205320
CREATED:20230501T184022Z
LAST-MODIFIED:20230501T184022Z
UID:5581-1696982400-1697068799@camdendeacon.org
SUMMARY:Priests and Parishioners of Saint Joseph Parish\, Sea Isle City
DESCRIPTION:
URL:https://camdendeacon.org/event/priests-and-parishioners-of-saint-joseph-parish-sea-isle-city-2/
CATEGORIES:Daily Prayer Intentions
END:VEVENT
BEGIN:VEVENT
DTSTART;VALUE=DATE:20231010
DTEND;VALUE=DATE:20231011
DTSTAMP:20260424T205320
CREATED:20230501T183739Z
LAST-MODIFIED:20230501T183739Z
UID:5577-1696896000-1696982399@camdendeacon.org
SUMMARY:Deacon James O. & Grace Smith
DESCRIPTION:
URL:https://camdendeacon.org/event/deacon-james-o-grace-smith-2/
CATEGORIES:Daily Prayer Intentions
END:VEVENT
BEGIN:VEVENT
DTSTART;VALUE=DATE:20231009
DTEND;VALUE=DATE:20231010
DTSTAMP:20260424T205320
CREATED:20230501T181952Z
LAST-MODIFIED:20230501T181952Z
UID:5575-1696809600-1696895999@camdendeacon.org
SUMMARY:Priests and Parishioners of Saint John Neumann Parish
DESCRIPTION:
URL:https://camdendeacon.org/event/priests-and-parishioners-of-saint-john-neumann-parish-2/
CATEGORIES:Daily Prayer Intentions
END:VEVENT
BEGIN:VEVENT
DTSTART;VALUE=DATE:20231008
DTEND;VALUE=DATE:20231009
DTSTAMP:20260424T205320
CREATED:20230501T161039Z
LAST-MODIFIED:20230501T161039Z
UID:5573-1696723200-1696809599@camdendeacon.org
SUMMARY:Priest and Parishioners of Saint Jochim Parish
DESCRIPTION:
URL:https://camdendeacon.org/event/priest-and-parishioners-of-saint-jochim-parish/
CATEGORIES:Daily Prayer Intentions
END:VEVENT
BEGIN:VEVENT
DTSTART;VALUE=DATE:20231007
DTEND;VALUE=DATE:20231008
DTSTAMP:20260424T205320
CREATED:20230419T175901Z
LAST-MODIFIED:20230419T175901Z
UID:5568-1696636800-1696723199@camdendeacon.org
SUMMARY:Deacon Jerome I. Wilson (d. 1998) & Mrs. Sandra Wilson (d.); Rev. Donald D. Vellozo\, past Diaconate Director (d. 2007)
DESCRIPTION:
URL:https://camdendeacon.org/event/deacon-jerome-i-wilson-d-1998-rev-donald-d-vellozo-past-diaconate-director-d-2007-2/
CATEGORIES:Daily Prayer Intentions
END:VEVENT
BEGIN:VEVENT
DTSTART;VALUE=DATE:20231006
DTEND;VALUE=DATE:20231007
DTSTAMP:20260424T205320
CREATED:20230419T175650Z
LAST-MODIFIED:20230419T175650Z
UID:5566-1696550400-1696636799@camdendeacon.org
SUMMARY:Deacon Edward F. Freed (d. 2018) & Mrs. Ann Freed
DESCRIPTION:
URL:https://camdendeacon.org/event/deacon-edward-f-freed-d-2018-mrs-ann-freed/
CATEGORIES:Daily Prayer Intentions
END:VEVENT
BEGIN:VEVENT
DTSTART;VALUE=DATE:20231005
DTEND;VALUE=DATE:20231006
DTSTAMP:20260424T205320
CREATED:20230419T175542Z
LAST-MODIFIED:20230419T175542Z
UID:5564-1696464000-1696550399@camdendeacon.org
SUMMARY:Intentions of the deacons ordained on this date 1981
DESCRIPTION:
URL:https://camdendeacon.org/event/intentions-of-the-deacons-ordained-on-this-date-1981/
CATEGORIES:Daily Prayer Intentions
END:VEVENT
BEGIN:VEVENT
DTSTART;VALUE=DATE:20231004
DTEND;VALUE=DATE:20231005
DTSTAMP:20260424T205320
CREATED:20230419T175424Z
LAST-MODIFIED:20230419T175424Z
UID:5562-1696377600-1696463999@camdendeacon.org
SUMMARY:Intentions of the deacons ordained on this date in 1976\, 1978 & 1980
DESCRIPTION:
URL:https://camdendeacon.org/event/intentions-of-the-deacons-ordained-on-this-date-in-1976-1978-1980-2/
CATEGORIES:Daily Prayer Intentions
END:VEVENT
BEGIN:VEVENT
DTSTART;VALUE=DATE:20231003
DTEND;VALUE=DATE:20231004
DTSTAMP:20260424T205320
CREATED:20230419T175331Z
LAST-MODIFIED:20230419T175331Z
UID:5560-1696291200-1696377599@camdendeacon.org
SUMMARY:Priests and Parishioners o Saint Gianna Molla Parish
DESCRIPTION:
URL:https://camdendeacon.org/event/priests-and-parishioners-o-saint-gianna-molla-parish/
CATEGORIES:Daily Prayer Intentions
END:VEVENT
BEGIN:VEVENT
DTSTART;VALUE=DATE:20231002
DTEND;VALUE=DATE:20231003
DTSTAMP:20260424T205320
CREATED:20230419T174856Z
LAST-MODIFIED:20230419T174856Z
UID:5558-1696204800-1696291199@camdendeacon.org
SUMMARY:Archbishop Celestine J. Damiano\, third Bishop of Camden (d. 1967)
DESCRIPTION:
URL:https://camdendeacon.org/event/archbishop-celestine-j-damiano-third-bishop-of-camden-d-1967-2/
CATEGORIES:Daily Prayer Intentions
END:VEVENT
BEGIN:VEVENT
DTSTART;VALUE=DATE:20231001
DTEND;VALUE=DATE:20231002
DTSTAMP:20260424T205320
CREATED:20230419T174740Z
LAST-MODIFIED:20230419T174740Z
UID:5556-1696118400-1696204799@camdendeacon.org
SUMMARY:Msgr. William Buchler\, past Diaconate Director (d. 1992)
DESCRIPTION:
URL:https://camdendeacon.org/event/msgr-william-buchler-past-diaconate-director-d-1992-2/
CATEGORIES:Daily Prayer Intentions
END:VEVENT
BEGIN:VEVENT
DTSTART;VALUE=DATE:20230930
DTEND;VALUE=DATE:20231001
DTSTAMP:20260424T205320
CREATED:20230419T161627Z
LAST-MODIFIED:20230419T161804Z
UID:5553-1696032000-1696118399@camdendeacon.org
SUMMARY:Rev. John Loveland\, past Diaconate Director (d. 1991)
DESCRIPTION:
URL:https://camdendeacon.org/event/rev-john-loveland-past-diaconate-director-d-1992/
CATEGORIES:Daily Prayer Intentions
END:VEVENT
BEGIN:VEVENT
DTSTART;VALUE=DATE:20230929
DTEND;VALUE=DATE:20230930
DTSTAMP:20260424T205320
CREATED:20230419T160900Z
LAST-MODIFIED:20230419T160900Z
UID:5548-1695945600-1696031999@camdendeacon.org
SUMMARY:Deacon Charles L. Smith (d. 2006) & Mrs. Marie Smith; Deacon Robert F. Willson (d. 2015) & Mrs. Roseann Willson
DESCRIPTION:
URL:https://camdendeacon.org/event/deacon-charles-l-smith-d-2006-deacon-robert-f-willson-d-2015-mrs-roseann-willson-2/
CATEGORIES:Daily Prayer Intentions
END:VEVENT
BEGIN:VEVENT
DTSTART;VALUE=DATE:20230928
DTEND;VALUE=DATE:20230929
DTSTAMP:20260424T205320
CREATED:20230321T162206Z
LAST-MODIFIED:20230419T161323Z
UID:5542-1695859200-1695945599@camdendeacon.org
SUMMARY:Priests and Parishioners of Saint Gabriel the Archangel Parish
DESCRIPTION:
URL:https://camdendeacon.org/event/priests-and-parishioners-of-saint-gabrie-the-archangel-parish/
CATEGORIES:Daily Prayer Intentions
END:VEVENT
BEGIN:VEVENT
DTSTART;VALUE=DATE:20230927
DTEND;VALUE=DATE:20230928
DTSTAMP:20260424T205320
CREATED:20230321T162117Z
LAST-MODIFIED:20230321T162117Z
UID:5540-1695772800-1695859199@camdendeacon.org
SUMMARY:Priests and Parishioners of Saint Joseph Parish\, Somers Point
DESCRIPTION:
URL:https://camdendeacon.org/event/priests-and-parishioners-of-saint-joseph-parish-somers-point-2/
CATEGORIES:Daily Prayer Intentions
END:VEVENT
BEGIN:VEVENT
DTSTART;VALUE=DATE:20230926
DTEND;VALUE=DATE:20230927
DTSTAMP:20260424T205320
CREATED:20230321T162015Z
LAST-MODIFIED:20230321T162015Z
UID:5538-1695686400-1695772799@camdendeacon.org
SUMMARY:Deacon Aaron G. & Theresa Ann Smith
DESCRIPTION:
URL:https://camdendeacon.org/event/deacon-aaron-g-theresa-ann-smith-2/
CATEGORIES:Daily Prayer Intentions
END:VEVENT
BEGIN:VEVENT
DTSTART;VALUE=DATE:20230925
DTEND;VALUE=DATE:20230926
DTSTAMP:20260424T205320
CREATED:20230321T161924Z
LAST-MODIFIED:20230321T161924Z
UID:5536-1695600000-1695686399@camdendeacon.org
SUMMARY:Intentions of the deacons ordained on this date in 2010
DESCRIPTION:
URL:https://camdendeacon.org/event/intentions-of-the-deacons-ordained-on-this-date-in-2010-2/
CATEGORIES:Daily Prayer Intentions
END:VEVENT
BEGIN:VEVENT
DTSTART;VALUE=DATE:20230924
DTEND;VALUE=DATE:20230925
DTSTAMP:20260424T205320
CREATED:20230321T161833Z
LAST-MODIFIED:20230321T161833Z
UID:5534-1695513600-1695599999@camdendeacon.org
SUMMARY:Deacon William M. & Janet Slaven
DESCRIPTION:
URL:https://camdendeacon.org/event/deacon-william-m-janet-slaven-2/
CATEGORIES:Daily Prayer Intentions
END:VEVENT
BEGIN:VEVENT
DTSTART;VALUE=DATE:20230923
DTEND;VALUE=DATE:20230924
DTSTAMP:20260424T205320
CREATED:20230321T161037Z
LAST-MODIFIED:20230918T133614Z
UID:5528-1695427200-1695513599@camdendeacon.org
SUMMARY:Deacon Joseph F. & Mary Beth Seaman
DESCRIPTION:
URL:https://camdendeacon.org/event/deacon-joseph-f-mary-beth-seaman-2/
CATEGORIES:Daily Prayer Intentions
END:VEVENT
BEGIN:VEVENT
DTSTART;VALUE=DATE:20230922
DTEND;VALUE=DATE:20230923
DTSTAMP:20260424T205320
CREATED:20230321T161156Z
LAST-MODIFIED:20230321T161156Z
UID:5530-1695340800-1695427199@camdendeacon.org
SUMMARY:Priests and Parishioners of Saint Charles Borromeo Parish
DESCRIPTION:
URL:https://camdendeacon.org/event/priests-and-parishioners-of-saint-charles-borromeo-parish-2/
CATEGORIES:Daily Prayer Intentions
END:VEVENT
BEGIN:VEVENT
DTSTART;VALUE=DATE:20230921
DTEND;VALUE=DATE:20230922
DTSTAMP:20260424T205320
CREATED:20230321T161309Z
LAST-MODIFIED:20230918T133652Z
UID:5532-1695254400-1695340799@camdendeacon.org
SUMMARY:Anniversary of Episcopal Ordination of Bishop Sullivan
DESCRIPTION:
URL:https://camdendeacon.org/event/anniversary-of-episcopal-ordination-of-bishop-sullivan-2/
CATEGORIES:Daily Prayer Intentions
END:VEVENT
BEGIN:VEVENT
DTSTART;VALUE=DATE:20230920
DTEND;VALUE=DATE:20230921
DTSTAMP:20260424T205320
CREATED:20230321T160635Z
LAST-MODIFIED:20230321T160635Z
UID:5526-1695168000-1695254399@camdendeacon.org
SUMMARY:Priests and Parishioners of Saint Brendan the Navigator Parish
DESCRIPTION:
URL:https://camdendeacon.org/event/priests-and-parishioners-of-saint-brendan-the-navigator-parish-2/
CATEGORIES:Daily Prayer Intentions
END:VEVENT
END:VCALENDAR