BEGIN:VCALENDAR
VERSION:2.0
PRODID:-//Office of Diaconate - ECPv6.15.18//NONSGML v1.0//EN
CALSCALE:GREGORIAN
METHOD:PUBLISH
X-ORIGINAL-URL:https://camdendeacon.org
X-WR-CALDESC:Events for Office of Diaconate
REFRESH-INTERVAL;VALUE=DURATION:PT1H
X-Robots-Tag:noindex
X-PUBLISHED-TTL:PT1H
BEGIN:VTIMEZONE
TZID:America/New_York
BEGIN:DAYLIGHT
TZOFFSETFROM:-0500
TZOFFSETTO:-0400
TZNAME:EDT
DTSTART:20220313T070000
END:DAYLIGHT
BEGIN:STANDARD
TZOFFSETFROM:-0400
TZOFFSETTO:-0500
TZNAME:EST
DTSTART:20221106T060000
END:STANDARD
BEGIN:DAYLIGHT
TZOFFSETFROM:-0500
TZOFFSETTO:-0400
TZNAME:EDT
DTSTART:20230312T070000
END:DAYLIGHT
BEGIN:STANDARD
TZOFFSETFROM:-0400
TZOFFSETTO:-0500
TZNAME:EST
DTSTART:20231105T060000
END:STANDARD
BEGIN:DAYLIGHT
TZOFFSETFROM:-0500
TZOFFSETTO:-0400
TZNAME:EDT
DTSTART:20240310T070000
END:DAYLIGHT
BEGIN:STANDARD
TZOFFSETFROM:-0400
TZOFFSETTO:-0500
TZNAME:EST
DTSTART:20241103T060000
END:STANDARD
END:VTIMEZONE
BEGIN:VEVENT
DTSTART;VALUE=DATE:20231112
DTEND;VALUE=DATE:20231113
DTSTAMP:20260424T163517
CREATED:20230508T193522Z
LAST-MODIFIED:20230508T193522Z
UID:5651-1699747200-1699833599@camdendeacon.org
SUMMARY:Deacon Joseph J. Izzo (d. 2016) & Mrs. Anja Izzo (d. 2000)
DESCRIPTION:
URL:https://camdendeacon.org/event/deacon-joseph-j-izzo-d-2016-mrs-anja-izzo-d-2000/
CATEGORIES:Daily Prayer Intentions
END:VEVENT
BEGIN:VEVENT
DTSTART;VALUE=DATE:20231111
DTEND;VALUE=DATE:20231112
DTSTAMP:20260424T163517
CREATED:20230508T193423Z
LAST-MODIFIED:20230508T193423Z
UID:5649-1699660800-1699747199@camdendeacon.org
SUMMARY:All deceased Deacons of the Diocese of Camden
DESCRIPTION:
URL:https://camdendeacon.org/event/all-deceased-deacons-of-the-diocese-of-camden-2/
CATEGORIES:Daily Prayer Intentions
END:VEVENT
BEGIN:VEVENT
DTSTART;VALUE=DATE:20231110
DTEND;VALUE=DATE:20231111
DTSTAMP:20260424T163517
CREATED:20230508T192859Z
LAST-MODIFIED:20230508T192859Z
UID:5647-1699574400-1699660799@camdendeacon.org
SUMMARY:Deacon Rocco A. Mangino (d. 2006) & Mrs. Christine Mangino
DESCRIPTION:
URL:https://camdendeacon.org/event/deacon-rocco-a-mangino-d-2006-mrs-christine-mangino-2/
CATEGORIES:Daily Prayer Intentions
END:VEVENT
BEGIN:VEVENT
DTSTART;VALUE=DATE:20231109
DTEND;VALUE=DATE:20231110
DTSTAMP:20260424T163517
CREATED:20230508T192803Z
LAST-MODIFIED:20230508T192803Z
UID:5645-1699488000-1699574399@camdendeacon.org
SUMMARY:Priests and Parishioners of Saint Stephen Parish
DESCRIPTION:
URL:https://camdendeacon.org/event/priests-and-parishioners-of-saint-stephen-parish-2/
CATEGORIES:Daily Prayer Intentions
END:VEVENT
BEGIN:VEVENT
DTSTART;VALUE=DATE:20231108
DTEND;VALUE=DATE:20231109
DTSTAMP:20260424T163517
CREATED:20230508T192701Z
LAST-MODIFIED:20230508T192701Z
UID:5643-1699401600-1699487999@camdendeacon.org
SUMMARY:All deceased Priests of the Diocese of Camden
DESCRIPTION:
URL:https://camdendeacon.org/event/all-deceased-priests-of-the-diocese-of-camden-2/
CATEGORIES:Daily Prayer Intentions
END:VEVENT
BEGIN:VEVENT
DTSTART;VALUE=DATE:20231107
DTEND;VALUE=DATE:20231108
DTSTAMP:20260424T163517
CREATED:20230508T192608Z
LAST-MODIFIED:20230508T192608Z
UID:5641-1699315200-1699401599@camdendeacon.org
SUMMARY:Intentions of the Diaconate Community
DESCRIPTION:
URL:https://camdendeacon.org/event/intentions-of-the-diaconate-community-11/
CATEGORIES:Daily Prayer Intentions
END:VEVENT
BEGIN:VEVENT
DTSTART;VALUE=DATE:20231106
DTEND;VALUE=DATE:20231107
DTSTAMP:20260424T163517
CREATED:20230508T192519Z
LAST-MODIFIED:20230508T192519Z
UID:5639-1699228800-1699315199@camdendeacon.org
SUMMARY:Priests and Parishioners of Saint Rose of Lima Parish
DESCRIPTION:
URL:https://camdendeacon.org/event/priests-and-parishioners-of-saint-rose-of-lima-parish-2/
CATEGORIES:Daily Prayer Intentions
END:VEVENT
BEGIN:VEVENT
DTSTART;VALUE=DATE:20231105
DTEND;VALUE=DATE:20231106
DTSTAMP:20260424T163517
CREATED:20230508T192424Z
LAST-MODIFIED:20230508T192424Z
UID:5637-1699142400-1699228799@camdendeacon.org
SUMMARY:Deacon John A. Leone (d. 2015) & Mrs. Rosemary Leone
DESCRIPTION:
URL:https://camdendeacon.org/event/deacon-john-a-leone-d-2015-mrs-rosemary-leone-2/
CATEGORIES:Daily Prayer Intentions
END:VEVENT
BEGIN:VEVENT
DTSTART;VALUE=DATE:20231104
DTEND;VALUE=DATE:20231105
DTSTAMP:20260424T163517
CREATED:20230508T192252Z
LAST-MODIFIED:20230508T192252Z
UID:5635-1699056000-1699142399@camdendeacon.org
SUMMARY:Deacon James M. Tully (d. 2004) & Mrs. Dorothy Tully (d. 1980)
DESCRIPTION:
URL:https://camdendeacon.org/event/deacon-james-m-tully-d-2004-mrs-dorothy-tully-d-1980-2/
CATEGORIES:Daily Prayer Intentions
END:VEVENT
BEGIN:VEVENT
DTSTART;VALUE=DATE:20231103
DTEND;VALUE=DATE:20231104
DTSTAMP:20260424T163517
CREATED:20230508T192159Z
LAST-MODIFIED:20230508T192159Z
UID:5633-1698969600-1699055999@camdendeacon.org
SUMMARY:Intentions of Bishop Sullivan
DESCRIPTION:
URL:https://camdendeacon.org/event/intentions-of-bishop-sullivan-6/
CATEGORIES:Daily Prayer Intentions
END:VEVENT
BEGIN:VEVENT
DTSTART;VALUE=DATE:20231102
DTEND;VALUE=DATE:20231103
DTSTAMP:20260424T163517
CREATED:20230508T192116Z
LAST-MODIFIED:20230508T192116Z
UID:5631-1698883200-1698969599@camdendeacon.org
SUMMARY:Intentions of the Holy Father
DESCRIPTION:
URL:https://camdendeacon.org/event/intentions-of-the-holy-father-3/
CATEGORIES:Daily Prayer Intentions
END:VEVENT
BEGIN:VEVENT
DTSTART;VALUE=DATE:20231101
DTEND;VALUE=DATE:20231102
DTSTAMP:20260424T163517
CREATED:20230508T192034Z
LAST-MODIFIED:20230508T192034Z
UID:5629-1698796800-1698883199@camdendeacon.org
SUMMARY:Deacon Michael S. & Meredith Vitarelli
DESCRIPTION:
URL:https://camdendeacon.org/event/deacon-michael-s-meredith-vitarelli-2/
CATEGORIES:Daily Prayer Intentions
END:VEVENT
BEGIN:VEVENT
DTSTART;VALUE=DATE:20231031
DTEND;VALUE=DATE:20231101
DTSTAMP:20260424T163517
CREATED:20230508T184315Z
LAST-MODIFIED:20230508T184315Z
UID:5627-1698710400-1698796799@camdendeacon.org
SUMMARY:Priests and Parishioners of Saint Peter Parish
DESCRIPTION:
URL:https://camdendeacon.org/event/priests-and-parishioners-of-saint-peter-parish-2/
CATEGORIES:Daily Prayer Intentions
END:VEVENT
BEGIN:VEVENT
DTSTART;TZID=America/New_York:20231030T080000
DTEND;TZID=America/New_York:20231030T170000
DTSTAMP:20260424T163517
CREATED:20230508T184232Z
LAST-MODIFIED:20230508T184232Z
UID:5625-1698652800-1698685200@camdendeacon.org
SUMMARY:Deacon George R. & Theresa VanLeer
DESCRIPTION:
URL:https://camdendeacon.org/event/deacon-george-r-theresa-vanleer-2/
CATEGORIES:Daily Prayer Intentions
END:VEVENT
BEGIN:VEVENT
DTSTART;VALUE=DATE:20231029
DTEND;VALUE=DATE:20231030
DTSTAMP:20260424T163517
CREATED:20230508T184101Z
LAST-MODIFIED:20230508T184101Z
UID:5622-1698537600-1698623999@camdendeacon.org
SUMMARY:Priests in Residence Villa Raffaella
DESCRIPTION:
URL:https://camdendeacon.org/event/priests-in-residence-villa-raffaella-2/
CATEGORIES:Daily Prayer Intentions
END:VEVENT
BEGIN:VEVENT
DTSTART;VALUE=DATE:20231028
DTEND;VALUE=DATE:20231029
DTSTAMP:20260424T163517
CREATED:20230508T181023Z
LAST-MODIFIED:20230508T181023Z
UID:5619-1698451200-1698537599@camdendeacon.org
SUMMARY:Deacon Wilfredo & Carmen Valle
DESCRIPTION:
URL:https://camdendeacon.org/event/deacon-wilfredo-carmen-valle-2/
CATEGORIES:Daily Prayer Intentions
END:VEVENT
BEGIN:VEVENT
DTSTART;VALUE=DATE:20231027
DTEND;VALUE=DATE:20231028
DTSTAMP:20260424T163517
CREATED:20230508T180400Z
LAST-MODIFIED:20230508T180400Z
UID:5617-1698364800-1698451199@camdendeacon.org
SUMMARY:Priests and Parishioners of Saint Michael the Archangel Parish
DESCRIPTION:
URL:https://camdendeacon.org/event/priests-and-parishioners-of-saint-michael-the-archangel-parish-2/
CATEGORIES:Daily Prayer Intentions
END:VEVENT
BEGIN:VEVENT
DTSTART;VALUE=DATE:20231026
DTEND;VALUE=DATE:20231027
DTSTAMP:20260424T163517
CREATED:20230508T180235Z
LAST-MODIFIED:20230508T180236Z
UID:5615-1698278400-1698364799@camdendeacon.org
SUMMARY:Deacon J. Peter & Nora Traum
DESCRIPTION:
URL:https://camdendeacon.org/event/deacon-j-peter-nora-traum-2/
CATEGORIES:Daily Prayer Intentions
END:VEVENT
BEGIN:VEVENT
DTSTART;TZID=America/New_York:20231025T080000
DTEND;TZID=America/New_York:20231025T170000
DTSTAMP:20260424T163517
CREATED:20230508T180143Z
LAST-MODIFIED:20230508T180143Z
UID:5613-1698220800-1698253200@camdendeacon.org
SUMMARY:Priests and Parishioners of Our Lady of Sorrows Parish
DESCRIPTION:
URL:https://camdendeacon.org/event/priests-and-parishioners-of-our-lady-of-sorrows-parish-2/
CATEGORIES:Daily Prayer Intentions
END:VEVENT
BEGIN:VEVENT
DTSTART;VALUE=DATE:20231024
DTEND;VALUE=DATE:20231025
DTSTAMP:20260424T163517
CREATED:20230508T175954Z
LAST-MODIFIED:20230508T175954Z
UID:5611-1698105600-1698191999@camdendeacon.org
SUMMARY:Intentions of the deacons ordained on this date 2020
DESCRIPTION:
URL:https://camdendeacon.org/event/intentions-of-the-deacons-ordained-on-this-date-2020/
CATEGORIES:Daily Prayer Intentions
END:VEVENT
BEGIN:VEVENT
DTSTART;VALUE=DATE:20231023
DTEND;VALUE=DATE:20231024
DTSTAMP:20260424T163517
CREATED:20230508T175903Z
LAST-MODIFIED:20230508T175903Z
UID:5609-1698019200-1698105599@camdendeacon.org
SUMMARY:Deacon Joseph L. Bucher (d. 1999) & Mrs. Maria Bucher (d. 1999); Deacon Donald W. Rogozenski (d. 2020) & Mrs. Karl Rogozenski
DESCRIPTION:
URL:https://camdendeacon.org/event/deacon-joseph-l-bucher-d-1999-deacon-donald-w-rogozenski-d-2020-mrs-karl-rogozenski-2/
CATEGORIES:Daily Prayer Intentions
END:VEVENT
BEGIN:VEVENT
DTSTART;VALUE=DATE:20231022
DTEND;VALUE=DATE:20231023
DTSTAMP:20260424T163517
CREATED:20230508T175736Z
LAST-MODIFIED:20230508T175736Z
UID:5607-1697932800-1698019199@camdendeacon.org
SUMMARY:Deacon Richard F. McCarthy (d. 2014) & Mrs. Dorothy McCarthy (d. 2001)
DESCRIPTION:
URL:https://camdendeacon.org/event/deacon-richard-f-mccarthy-d-2014-mrs-dorothy-mccarthy-d-2001/
CATEGORIES:Daily Prayer Intentions
END:VEVENT
BEGIN:VEVENT
DTSTART;VALUE=DATE:20231021
DTEND;VALUE=DATE:20231022
DTSTAMP:20260424T163517
CREATED:20230508T174552Z
LAST-MODIFIED:20230508T174552Z
UID:5605-1697846400-1697932799@camdendeacon.org
SUMMARY:Deacon Ismael P. & Genoveva Tavarez
DESCRIPTION:
URL:https://camdendeacon.org/event/deacon-ismael-p-genoveva-tavarez-2/
CATEGORIES:Daily Prayer Intentions
END:VEVENT
BEGIN:VEVENT
DTSTART;VALUE=DATE:20231020
DTEND;VALUE=DATE:20231021
DTSTAMP:20260424T163517
CREATED:20230508T162746Z
LAST-MODIFIED:20230508T162746Z
UID:5600-1697760000-1697846399@camdendeacon.org
SUMMARY:Intentions of the deacons ordained on this date in 2018
DESCRIPTION:
URL:https://camdendeacon.org/event/intentions-of-the-deacons-ordained-on-this-date-in-2018/
CATEGORIES:Daily Prayer Intentions
END:VEVENT
BEGIN:VEVENT
DTSTART;VALUE=DATE:20231019
DTEND;VALUE=DATE:20231020
DTSTAMP:20260424T163517
CREATED:20230508T162633Z
LAST-MODIFIED:20230508T162633Z
UID:5598-1697673600-1697759999@camdendeacon.org
SUMMARY:Deacon William C. Robinson (d. 2017) & Mrs. Sheila Robinson
DESCRIPTION:
URL:https://camdendeacon.org/event/deacon-william-c-robinson-d-2017-mrs-sheila-robinson-2/
CATEGORIES:Daily Prayer Intentions
END:VEVENT
BEGIN:VEVENT
DTSTART;VALUE=DATE:20231018
DTEND;VALUE=DATE:20231019
DTSTAMP:20260424T163517
CREATED:20230508T162517Z
LAST-MODIFIED:20230508T162517Z
UID:5596-1697587200-1697673599@camdendeacon.org
SUMMARY:Priests and Parishioners of Saint Katherine Drexel Parish
DESCRIPTION:
URL:https://camdendeacon.org/event/priests-and-parishioners-of-saint-katherine-drexel-parish-2/
CATEGORIES:Daily Prayer Intentions
END:VEVENT
BEGIN:VEVENT
DTSTART;VALUE=DATE:20231017
DTEND;VALUE=DATE:20231018
DTSTAMP:20260424T163517
CREATED:20230508T162408Z
LAST-MODIFIED:20230508T162408Z
UID:5594-1697500800-1697587199@camdendeacon.org
SUMMARY:Priests and Parishioners of Saint Andrew the Apostle Parish
DESCRIPTION:
URL:https://camdendeacon.org/event/priests-and-parishioners-of-saint-andrew-the-apostle-parish-2/
CATEGORIES:Daily Prayer Intentions
END:VEVENT
BEGIN:VEVENT
DTSTART;VALUE=DATE:20231016
DTEND;VALUE=DATE:20231017
DTSTAMP:20260424T163517
CREATED:20230501T192326Z
LAST-MODIFIED:20230501T192326Z
UID:5591-1697414400-1697500799@camdendeacon.org
SUMMARY:Priests and Parishioners of Saint Clare of Assisi
DESCRIPTION:
URL:https://camdendeacon.org/event/priests-and-parishioners-of-saint-clare-of-assisi/
CATEGORIES:Daily Prayer Intentions
END:VEVENT
BEGIN:VEVENT
DTSTART;VALUE=DATE:20231015
DTEND;VALUE=DATE:20231016
DTSTAMP:20260424T163517
CREATED:20230501T192239Z
LAST-MODIFIED:20230501T192239Z
UID:5589-1697328000-1697414399@camdendeacon.org
SUMMARY:Intentions of the deacons ordained on this date in 1988
DESCRIPTION:
URL:https://camdendeacon.org/event/intentions-of-the-deacons-ordained-on-this-date-in-1988-2/
CATEGORIES:Daily Prayer Intentions
END:VEVENT
BEGIN:VEVENT
DTSTART;VALUE=DATE:20231014
DTEND;VALUE=DATE:20231015
DTSTAMP:20260424T163517
CREATED:20230501T183841Z
LAST-MODIFIED:20230501T183841Z
UID:5579-1697241600-1697327999@camdendeacon.org
SUMMARY:Priests and Parishioners of Saint Joseph Pro-Cathedral
DESCRIPTION:
URL:https://camdendeacon.org/event/priests-and-parishioners-of-saint-joseph-pro-cathedral/
CATEGORIES:Daily Prayer Intentions
END:VEVENT
END:VCALENDAR