BEGIN:VCALENDAR
VERSION:2.0
PRODID:-//Office of Diaconate - ECPv6.15.18//NONSGML v1.0//EN
CALSCALE:GREGORIAN
METHOD:PUBLISH
X-ORIGINAL-URL:https://camdendeacon.org
X-WR-CALDESC:Events for Office of Diaconate
REFRESH-INTERVAL;VALUE=DURATION:PT1H
X-Robots-Tag:noindex
X-PUBLISHED-TTL:PT1H
BEGIN:VTIMEZONE
TZID:America/New_York
BEGIN:DAYLIGHT
TZOFFSETFROM:-0500
TZOFFSETTO:-0400
TZNAME:EDT
DTSTART:20220313T070000
END:DAYLIGHT
BEGIN:STANDARD
TZOFFSETFROM:-0400
TZOFFSETTO:-0500
TZNAME:EST
DTSTART:20221106T060000
END:STANDARD
BEGIN:DAYLIGHT
TZOFFSETFROM:-0500
TZOFFSETTO:-0400
TZNAME:EDT
DTSTART:20230312T070000
END:DAYLIGHT
BEGIN:STANDARD
TZOFFSETFROM:-0400
TZOFFSETTO:-0500
TZNAME:EST
DTSTART:20231105T060000
END:STANDARD
BEGIN:DAYLIGHT
TZOFFSETFROM:-0500
TZOFFSETTO:-0400
TZNAME:EDT
DTSTART:20240310T070000
END:DAYLIGHT
BEGIN:STANDARD
TZOFFSETFROM:-0400
TZOFFSETTO:-0500
TZNAME:EST
DTSTART:20241103T060000
END:STANDARD
END:VTIMEZONE
BEGIN:VEVENT
DTSTART;VALUE=DATE:20230704
DTEND;VALUE=DATE:20230705
DTSTAMP:20260425T114701
CREATED:20230207T195456Z
LAST-MODIFIED:20230207T195456Z
UID:5344-1688428800-1688515199@camdendeacon.org
SUMMARY:Deacon James W. Kiley (d. 2020) & Mrs. Sandra Kiley
DESCRIPTION:
URL:https://camdendeacon.org/event/deacon-james-w-kiley-d-2020-mrs-sandra-kiley/
CATEGORIES:Daily Prayer Intentions
END:VEVENT
BEGIN:VEVENT
DTSTART;VALUE=DATE:20230703
DTEND;VALUE=DATE:20230704
DTSTAMP:20260425T114701
CREATED:20230207T195354Z
LAST-MODIFIED:20230207T195354Z
UID:5342-1688342400-1688428799@camdendeacon.org
SUMMARY:Priests and Parishioners of Mary\, Queen of All Saints Parish
DESCRIPTION:
URL:https://camdendeacon.org/event/priests-and-parishioners-of-mary-queen-of-all-saints-parish/
CATEGORIES:Daily Prayer Intentions
END:VEVENT
BEGIN:VEVENT
DTSTART;VALUE=DATE:20230702
DTEND;VALUE=DATE:20230703
DTSTAMP:20260425T114701
CREATED:20230207T195303Z
LAST-MODIFIED:20230207T195303Z
UID:5340-1688256000-1688342399@camdendeacon.org
SUMMARY:Deacon Frank Pepe (d. 2013) & Mrs. Maria Pepe (d. 2023)
DESCRIPTION:
URL:https://camdendeacon.org/event/deacon-frank-pepe-d-2013-mrs-maria-pepe-d-2023/
CATEGORIES:Daily Prayer Intentions
END:VEVENT
BEGIN:VEVENT
DTSTART;VALUE=DATE:20230701
DTEND;VALUE=DATE:20230702
DTSTAMP:20260425T114701
CREATED:20230207T193618Z
LAST-MODIFIED:20230207T193618Z
UID:5338-1688169600-1688255999@camdendeacon.org
SUMMARY:Intentions of diaconate administration and formation staff
DESCRIPTION:
URL:https://camdendeacon.org/event/intentions-of-diaconate-administration-and-formation-staff/
CATEGORIES:Daily Prayer Intentions
END:VEVENT
BEGIN:VEVENT
DTSTART;VALUE=DATE:20230630
DTEND;VALUE=DATE:20230701
DTSTAMP:20260425T114701
CREATED:20230207T191903Z
LAST-MODIFIED:20230207T191903Z
UID:5335-1688083200-1688169599@camdendeacon.org
SUMMARY:Deacon Paul F. Johnson (d. 2009) & Mrs. Margaret Johnson (d. 1995); Deacon Matthew J. Hanrahan (d. 2019) & Mrs. Eva Hanrahan (d. 2008)
DESCRIPTION:
URL:https://camdendeacon.org/event/deacon-paul-f-johnson-d-2009-deacon-matthew-j-hanrahan-d-2019-mrs-eva-hanrahan-d-2008/
CATEGORIES:Daily Prayer Intentions
END:VEVENT
BEGIN:VEVENT
DTSTART;VALUE=DATE:20230629
DTEND;VALUE=DATE:20230630
DTSTAMP:20260425T114701
CREATED:20230207T191750Z
LAST-MODIFIED:20230207T191750Z
UID:5333-1687996800-1688083199@camdendeacon.org
SUMMARY:Priests and Parishioners of Incarnation Parish
DESCRIPTION:
URL:https://camdendeacon.org/event/priests-and-parishioners-of-incarnation-parish/
CATEGORIES:Daily Prayer Intentions
END:VEVENT
BEGIN:VEVENT
DTSTART;VALUE=DATE:20230628
DTEND;VALUE=DATE:20230629
DTSTAMP:20260425T114701
CREATED:20230207T191712Z
LAST-MODIFIED:20230207T191712Z
UID:5331-1687910400-1687996799@camdendeacon.org
SUMMARY:Deacon Robert G. & Ruth McMullen
DESCRIPTION:
URL:https://camdendeacon.org/event/deacon-robert-g-ruth-mcmullen/
CATEGORIES:Daily Prayer Intentions
END:VEVENT
BEGIN:VEVENT
DTSTART;VALUE=DATE:20230627
DTEND;VALUE=DATE:20230628
DTSTAMP:20260425T114701
CREATED:20230207T191633Z
LAST-MODIFIED:20230207T191633Z
UID:5329-1687824000-1687910399@camdendeacon.org
SUMMARY:Deacon Michael L. & Eileen McDonaugh
DESCRIPTION:
URL:https://camdendeacon.org/event/deacon-michael-l-eileen-mcdonaugh/
CATEGORIES:Daily Prayer Intentions
END:VEVENT
BEGIN:VEVENT
DTSTART;VALUE=DATE:20230626
DTEND;VALUE=DATE:20230627
DTSTAMP:20260425T114701
CREATED:20230207T191548Z
LAST-MODIFIED:20230207T191548Z
UID:5327-1687737600-1687823999@camdendeacon.org
SUMMARY:Deacon William C. Lauth (d. 2021) & Mrs. Anna Lauth
DESCRIPTION:
URL:https://camdendeacon.org/event/deacon-william-c-lauth-d-2021-mrs-anna-lauth/
CATEGORIES:Daily Prayer Intentions
END:VEVENT
BEGIN:VEVENT
DTSTART;VALUE=DATE:20230625
DTEND;VALUE=DATE:20230626
DTSTAMP:20260425T114701
CREATED:20230207T191452Z
LAST-MODIFIED:20230207T191452Z
UID:5325-1687651200-1687737599@camdendeacon.org
SUMMARY:Deacon W. Leo McBlain & Mrs. Barbara McBlain (d. 2016)\, past Diaconate Director
DESCRIPTION:
URL:https://camdendeacon.org/event/deacon-w-leo-mcblain-mrs-barbara-mcblain-d-2016-past-diaconate-director/
CATEGORIES:Daily Prayer Intentions
END:VEVENT
BEGIN:VEVENT
DTSTART;VALUE=DATE:20230624
DTEND;VALUE=DATE:20230625
DTSTAMP:20260425T114701
CREATED:20230207T183245Z
LAST-MODIFIED:20230207T183245Z
UID:5323-1687564800-1687651199@camdendeacon.org
SUMMARY:Priests in Residence Manor of Saint Mary
DESCRIPTION:
URL:https://camdendeacon.org/event/priests-in-residence-manor-of-saint-mary/
CATEGORIES:Daily Prayer Intentions
END:VEVENT
BEGIN:VEVENT
DTSTART;VALUE=DATE:20230623
DTEND;VALUE=DATE:20230624
DTSTAMP:20260425T114701
CREATED:20230207T183004Z
LAST-MODIFIED:20230207T183004Z
UID:5321-1687478400-1687564799@camdendeacon.org
SUMMARY:Deacon Charles L. & Jean McAleer
DESCRIPTION:
URL:https://camdendeacon.org/event/deacon-charles-l-jean-mcaleer/
CATEGORIES:Daily Prayer Intentions
END:VEVENT
BEGIN:VEVENT
DTSTART;VALUE=DATE:20230622
DTEND;VALUE=DATE:20230623
DTSTAMP:20260425T114701
CREATED:20230207T182834Z
LAST-MODIFIED:20230207T182834Z
UID:5319-1687392000-1687478399@camdendeacon.org
SUMMARY:Deacon Louis L. Curcio (d. 2000)
DESCRIPTION:
URL:https://camdendeacon.org/event/deacon-louis-l-curcio-d-2000/
CATEGORIES:Daily Prayer Intentions
END:VEVENT
BEGIN:VEVENT
DTSTART;VALUE=DATE:20230621
DTEND;VALUE=DATE:20230622
DTSTAMP:20260425T114701
CREATED:20230207T172927Z
LAST-MODIFIED:20230207T172927Z
UID:5317-1687305600-1687391999@camdendeacon.org
SUMMARY:Deacon Richard S. & Jackie Maxwell
DESCRIPTION:
URL:https://camdendeacon.org/event/deacon-richard-s-jackie-maxwell/
CATEGORIES:Daily Prayer Intentions
END:VEVENT
BEGIN:VEVENT
DTSTART;VALUE=DATE:20230620
DTEND;VALUE=DATE:20230621
DTSTAMP:20260425T114701
CREATED:20230207T172842Z
LAST-MODIFIED:20230207T172842Z
UID:5315-1687219200-1687305599@camdendeacon.org
SUMMARY:Deacon Anthony D. & Antoinette Malatesta
DESCRIPTION:
URL:https://camdendeacon.org/event/deacon-anthony-d-antoinette-malatesta/
CATEGORIES:Daily Prayer Intentions
END:VEVENT
BEGIN:VEVENT
DTSTART;VALUE=DATE:20230619
DTEND;VALUE=DATE:20230620
DTSTAMP:20260425T114701
CREATED:20230207T172757Z
LAST-MODIFIED:20230207T172757Z
UID:5313-1687132800-1687219199@camdendeacon.org
SUMMARY:For an increase in vocations to the Priesthood
DESCRIPTION:
URL:https://camdendeacon.org/event/for-an-increase-in-vocations-to-the-priesthood-3/
CATEGORIES:Daily Prayer Intentions
END:VEVENT
BEGIN:VEVENT
DTSTART;VALUE=DATE:20230618
DTEND;VALUE=DATE:20230619
DTSTAMP:20260425T114701
CREATED:20230207T172707Z
LAST-MODIFIED:20230207T172707Z
UID:5311-1687046400-1687132799@camdendeacon.org
SUMMARY:Deacon Vincent J. Fausto (d. 2003) & Mrs. Antoinette Fausto (d. 2005)
DESCRIPTION:
URL:https://camdendeacon.org/event/deacon-vincent-j-fausto-d-2003-mrs-antoinette-fausto-d-2005/
CATEGORIES:Daily Prayer Intentions
END:VEVENT
BEGIN:VEVENT
DTSTART;VALUE=DATE:20230617
DTEND;VALUE=DATE:20230618
DTSTAMP:20260425T114701
CREATED:20230207T172615Z
LAST-MODIFIED:20230207T172615Z
UID:5309-1686960000-1687046399@camdendeacon.org
SUMMARY:Deacon John J. & Mrs. Patricia Luko (d. 2023)
DESCRIPTION:
URL:https://camdendeacon.org/event/deacon-john-j-mrs-patricia-luko-d-2023/
CATEGORIES:Daily Prayer Intentions
END:VEVENT
BEGIN:VEVENT
DTSTART;VALUE=DATE:20230616
DTEND;VALUE=DATE:20230617
DTSTAMP:20260425T114701
CREATED:20230207T172525Z
LAST-MODIFIED:20230207T172525Z
UID:5307-1686873600-1686959999@camdendeacon.org
SUMMARY:Deacon Nicholas R. & Mary Ann Ludovich
DESCRIPTION:
URL:https://camdendeacon.org/event/deacon-nicholas-r-mary-ann-ludovich/
CATEGORIES:Daily Prayer Intentions
END:VEVENT
BEGIN:VEVENT
DTSTART;VALUE=DATE:20230615
DTEND;VALUE=DATE:20230616
DTSTAMP:20260425T114701
CREATED:20230207T172423Z
LAST-MODIFIED:20230207T172423Z
UID:5305-1686787200-1686873599@camdendeacon.org
SUMMARY:Deacon Joseph W. & Margaret Loungo
DESCRIPTION:
URL:https://camdendeacon.org/event/deacon-joseph-w-margaret-loungo/
CATEGORIES:Daily Prayer Intentions
END:VEVENT
BEGIN:VEVENT
DTSTART;VALUE=DATE:20230614
DTEND;VALUE=DATE:20230615
DTSTAMP:20260425T114701
CREATED:20230207T171743Z
LAST-MODIFIED:20230207T171743Z
UID:5303-1686700800-1686787199@camdendeacon.org
SUMMARY:Intentions of the Diaconate Community
DESCRIPTION:
URL:https://camdendeacon.org/event/intentions-of-the-diaconate-community-8/
CATEGORIES:Daily Prayer Intentions
END:VEVENT
BEGIN:VEVENT
DTSTART;VALUE=DATE:20230613
DTEND;VALUE=DATE:20230614
DTSTAMP:20260425T114701
CREATED:20230207T171520Z
LAST-MODIFIED:20230207T171520Z
UID:5301-1686614400-1686700799@camdendeacon.org
SUMMARY:Deacon Angel A. Gonzales (d. 2004) & Mrs. Aracelis Gonzales; Deacon Liam O'Clisham (d. 2019) & Mrs. Cealaig O'Clisham
DESCRIPTION:
URL:https://camdendeacon.org/event/deacon-angel-a-gonzales-d-2004-deacon-liam-oclisham-d-2019-mrs-cealaig-oclisham/
CATEGORIES:Daily Prayer Intentions
END:VEVENT
BEGIN:VEVENT
DTSTART;VALUE=DATE:20230612
DTEND;VALUE=DATE:20230613
DTSTAMP:20260425T114701
CREATED:20230130T200852Z
LAST-MODIFIED:20230130T200852Z
UID:5291-1686528000-1686614399@camdendeacon.org
SUMMARY:Deacon Francis J. Engel (d. 2018) & Mrs. Joanne Engel
DESCRIPTION:
URL:https://camdendeacon.org/event/deacon-francis-j-engel-d-2018-mrs-joanne-engel/
CATEGORIES:Daily Prayer Intentions
END:VEVENT
BEGIN:VEVENT
DTSTART;VALUE=DATE:20230611
DTEND;VALUE=DATE:20230612
DTSTAMP:20260425T114701
CREATED:20230130T200754Z
LAST-MODIFIED:20230130T200754Z
UID:5289-1686441600-1686527999@camdendeacon.org
SUMMARY:Bishop George H. Gilfoyle\, fourth Bishop of Camden (d. 1991); Deacon Aladino Velez (d 2019); Intentions of the deacons ordained on this date in 2005
DESCRIPTION:
URL:https://camdendeacon.org/event/bishop-george-h-gilfoyle-fourth-bishop-of-camden-d-1991-deacon-aladino-velez-d-2019-intentions-of-the-deacons-ordained-on-this-date-in-2005/
CATEGORIES:Daily Prayer Intentions
END:VEVENT
BEGIN:VEVENT
DTSTART;VALUE=DATE:20230610
DTEND;VALUE=DATE:20230611
DTSTAMP:20260425T114701
CREATED:20230130T200624Z
LAST-MODIFIED:20230130T200624Z
UID:5287-1686355200-1686441599@camdendeacon.org
SUMMARY:Deacon Joseph S. & Rita Lopes
DESCRIPTION:
URL:https://camdendeacon.org/event/deacon-joseph-s-rita-lopes/
CATEGORIES:Daily Prayer Intentions
END:VEVENT
BEGIN:VEVENT
DTSTART;VALUE=DATE:20230609
DTEND;VALUE=DATE:20230610
DTSTAMP:20260425T114701
CREATED:20230130T200356Z
LAST-MODIFIED:20230130T200356Z
UID:5285-1686268800-1686355199@camdendeacon.org
SUMMARY:Priests and Parishioners of Notre Dame de la Mer Parish
DESCRIPTION:
URL:https://camdendeacon.org/event/priests-and-parishioners-of-notre-dame-de-la-mer-parish-2/
CATEGORIES:Daily Prayer Intentions
END:VEVENT
BEGIN:VEVENT
DTSTART;VALUE=DATE:20230608
DTEND;VALUE=DATE:20230609
DTSTAMP:20260425T114701
CREATED:20230130T200304Z
LAST-MODIFIED:20230207T192433Z
UID:5283-1686182400-1686268799@camdendeacon.org
SUMMARY:Deacon John L. Glasser (d. 2000) & Mrs. Joan G. Glasser (d. 1997)
DESCRIPTION:
URL:https://camdendeacon.org/event/deacon-j-l-glasser-d-2000-mrs-joan-g-glasser-d-1997/
CATEGORIES:Daily Prayer Intentions
END:VEVENT
BEGIN:VEVENT
DTSTART;VALUE=DATE:20230607
DTEND;VALUE=DATE:20230608
DTSTAMP:20260425T114701
CREATED:20230130T195909Z
LAST-MODIFIED:20230130T195909Z
UID:5281-1686096000-1686182399@camdendeacon.org
SUMMARY:Deacon Leonard D. & Debra Long
DESCRIPTION:
URL:https://camdendeacon.org/event/deacon-leonard-d-debra-long/
CATEGORIES:Daily Prayer Intentions
END:VEVENT
BEGIN:VEVENT
DTSTART;VALUE=DATE:20230606
DTEND;VALUE=DATE:20230607
DTSTAMP:20260425T114701
CREATED:20230130T195226Z
LAST-MODIFIED:20230130T195226Z
UID:5279-1686009600-1686095999@camdendeacon.org
SUMMARY:For an increase in vocations to the diaconate
DESCRIPTION:
URL:https://camdendeacon.org/event/for-an-increase-in-vocations-to-the-diaconate-3/
CATEGORIES:Daily Prayer Intentions
END:VEVENT
BEGIN:VEVENT
DTSTART;VALUE=DATE:20230605
DTEND;VALUE=DATE:20230606
DTSTAMP:20260425T114701
CREATED:20230130T195000Z
LAST-MODIFIED:20230130T195000Z
UID:5277-1685923200-1686009599@camdendeacon.org
SUMMARY:Deacon Joseph W. & Kathleen Lonergan
DESCRIPTION:
URL:https://camdendeacon.org/event/deacon-joseph-w-kathleen-lonergan/
CATEGORIES:Daily Prayer Intentions
END:VEVENT
END:VCALENDAR