BEGIN:VCALENDAR
VERSION:2.0
PRODID:-//Office of Diaconate - ECPv6.15.18//NONSGML v1.0//EN
CALSCALE:GREGORIAN
METHOD:PUBLISH
X-WR-CALNAME:Office of Diaconate
X-ORIGINAL-URL:https://camdendeacon.org
X-WR-CALDESC:Events for Office of Diaconate
REFRESH-INTERVAL;VALUE=DURATION:PT1H
X-Robots-Tag:noindex
X-PUBLISHED-TTL:PT1H
BEGIN:VTIMEZONE
TZID:America/New_York
BEGIN:DAYLIGHT
TZOFFSETFROM:-0500
TZOFFSETTO:-0400
TZNAME:EDT
DTSTART:20220313T070000
END:DAYLIGHT
BEGIN:STANDARD
TZOFFSETFROM:-0400
TZOFFSETTO:-0500
TZNAME:EST
DTSTART:20221106T060000
END:STANDARD
BEGIN:DAYLIGHT
TZOFFSETFROM:-0500
TZOFFSETTO:-0400
TZNAME:EDT
DTSTART:20230312T070000
END:DAYLIGHT
BEGIN:STANDARD
TZOFFSETFROM:-0400
TZOFFSETTO:-0500
TZNAME:EST
DTSTART:20231105T060000
END:STANDARD
BEGIN:DAYLIGHT
TZOFFSETFROM:-0500
TZOFFSETTO:-0400
TZNAME:EDT
DTSTART:20240310T070000
END:DAYLIGHT
BEGIN:STANDARD
TZOFFSETFROM:-0400
TZOFFSETTO:-0500
TZNAME:EST
DTSTART:20241103T060000
END:STANDARD
END:VTIMEZONE
BEGIN:VEVENT
DTSTART;VALUE=DATE:20230728
DTEND;VALUE=DATE:20230729
DTSTAMP:20260425T071032
CREATED:20230208T151016Z
LAST-MODIFIED:20230208T152305Z
UID:5394-1690502400-1690588799@camdendeacon.org
SUMMARY:Deacon John W. Enoch (d. 1981) & Mrs. Miriam Enoch
DESCRIPTION:
URL:https://camdendeacon.org/event/deacon-john-w-enoch-d-1981-mrs-miriam-enoch/
CATEGORIES:Daily Prayer Intentions
END:VEVENT
BEGIN:VEVENT
DTSTART;VALUE=DATE:20230727
DTEND;VALUE=DATE:20230728
DTSTAMP:20260425T071032
CREATED:20230208T144612Z
LAST-MODIFIED:20230208T144612Z
UID:5392-1690416000-1690502399@camdendeacon.org
SUMMARY:Priests and Parishioners of Saint Mary Parish\, Cherry Hill
DESCRIPTION:
URL:https://camdendeacon.org/event/priests-and-parishioners-of-saint-mary-parish-cherry-hill/
CATEGORIES:Daily Prayer Intentions
END:VEVENT
BEGIN:VEVENT
DTSTART;VALUE=DATE:20230726
DTEND;VALUE=DATE:20230727
DTSTAMP:20260425T071032
CREATED:20230208T144445Z
LAST-MODIFIED:20230208T144445Z
UID:5390-1690329600-1690415999@camdendeacon.org
SUMMARY:Deacon John M. Mauro (d. 2000); Deacon Felix T. Miranda (d. 2020) & Mrs. Luisa Miranda; Deacon John R. Gallimore (d. 2022) & Mrs. Sarah Gallimore (d. 2016)
DESCRIPTION:
URL:https://camdendeacon.org/event/deacon-john-m-mauro-d-2000-deacon-felix-t-miranda-d-2020-deacon-john-r-gallimore-d-2022-mrs-sarah-gallimore-d-2016/
CATEGORIES:Daily Prayer Intentions
END:VEVENT
BEGIN:VEVENT
DTSTART;VALUE=DATE:20230725
DTEND;VALUE=DATE:20230726
DTSTAMP:20260425T071032
CREATED:20230208T144257Z
LAST-MODIFIED:20230208T144257Z
UID:5388-1690243200-1690329599@camdendeacon.org
SUMMARY:Deacon Harold G. Traxler (d. 2009) & Mrs. Margaret Traxler
DESCRIPTION:
URL:https://camdendeacon.org/event/deacon-harold-g-traxler-d-2009-mrs-margaret-traxler/
CATEGORIES:Daily Prayer Intentions
END:VEVENT
BEGIN:VEVENT
DTSTART;VALUE=DATE:20230724
DTEND;VALUE=DATE:20230725
DTSTAMP:20260425T071032
CREATED:20230208T144202Z
LAST-MODIFIED:20230208T152035Z
UID:5386-1690156800-1690243199@camdendeacon.org
SUMMARY:Deacon Anthony J. Petillo & Mrs. Leslie Petillo (d. 2021)
DESCRIPTION:
URL:https://camdendeacon.org/event/deacon-anthony-j-petillo-leslie-petillo-d-2021/
CATEGORIES:Daily Prayer Intentions
END:VEVENT
BEGIN:VEVENT
DTSTART;VALUE=DATE:20230723
DTEND;VALUE=DATE:20230724
DTSTAMP:20260425T071032
CREATED:20230208T144111Z
LAST-MODIFIED:20230208T144111Z
UID:5384-1690070400-1690156799@camdendeacon.org
SUMMARY:Deacon George J. Peterson
DESCRIPTION:
URL:https://camdendeacon.org/event/deacon-george-j-peterson/
CATEGORIES:Daily Prayer Intentions
END:VEVENT
BEGIN:VEVENT
DTSTART;VALUE=DATE:20230722
DTEND;VALUE=DATE:20230723
DTSTAMP:20260425T071032
CREATED:20230208T144031Z
LAST-MODIFIED:20230208T144031Z
UID:5382-1689984000-1690070399@camdendeacon.org
SUMMARY:Intentions of the Wives of Men in Formation
DESCRIPTION:
URL:https://camdendeacon.org/event/intentions-of-the-wives-of-men-in-formation-2/
CATEGORIES:Daily Prayer Intentions
END:VEVENT
BEGIN:VEVENT
DTSTART;VALUE=DATE:20230721
DTEND;VALUE=DATE:20230722
DTSTAMP:20260425T071032
CREATED:20230208T143527Z
LAST-MODIFIED:20230208T143527Z
UID:5380-1689897600-1689983999@camdendeacon.org
SUMMARY:Deacon William L. & Connie Peters
DESCRIPTION:
URL:https://camdendeacon.org/event/deacon-william-l-connie-peters/
CATEGORIES:Daily Prayer Intentions
END:VEVENT
BEGIN:VEVENT
DTSTART;TZID=America/New_York:20230720T080000
DTEND;TZID=America/New_York:20230720T170000
DTSTAMP:20260425T071032
CREATED:20230208T143425Z
LAST-MODIFIED:20230208T143425Z
UID:5378-1689840000-1689872400@camdendeacon.org
SUMMARY:Deacon J. Brian Kearney (d. 2022) & Mrs. Catherine Kearney (d. 2005)
DESCRIPTION:
URL:https://camdendeacon.org/event/deacon-j-brian-kearney-d-2022-mrs-catherine-kearney-d-2005/
CATEGORIES:Daily Prayer Intentions
END:VEVENT
BEGIN:VEVENT
DTSTART;VALUE=DATE:20230719
DTEND;VALUE=DATE:20230720
DTSTAMP:20260425T071032
CREATED:20230208T143145Z
LAST-MODIFIED:20230208T143145Z
UID:5376-1689724800-1689811199@camdendeacon.org
SUMMARY:Deacon Robert G. & Shirley Oliver
DESCRIPTION:
URL:https://camdendeacon.org/event/deacon-robert-g-shirley-oliver/
CATEGORIES:Daily Prayer Intentions
END:VEVENT
BEGIN:VEVENT
DTSTART;VALUE=DATE:20230718
DTEND;VALUE=DATE:20230719
DTSTAMP:20260425T071032
CREATED:20230208T140732Z
LAST-MODIFIED:20230208T140732Z
UID:5374-1689638400-1689724799@camdendeacon.org
SUMMARY:Deacon Vincent A. & Juliana Okoro
DESCRIPTION:
URL:https://camdendeacon.org/event/deacon-vincent-a-juliana-okoro/
CATEGORIES:Daily Prayer Intentions
END:VEVENT
BEGIN:VEVENT
DTSTART;VALUE=DATE:20230717
DTEND;VALUE=DATE:20230718
DTSTAMP:20260425T071032
CREATED:20230208T140635Z
LAST-MODIFIED:20230208T140635Z
UID:5372-1689552000-1689638399@camdendeacon.org
SUMMARY:Priests of Mater Ecclesiae Mission
DESCRIPTION:
URL:https://camdendeacon.org/event/priests-of-mater-ecclesiae-mission/
CATEGORIES:Daily Prayer Intentions
END:VEVENT
BEGIN:VEVENT
DTSTART;VALUE=DATE:20230716
DTEND;VALUE=DATE:20230717
DTSTAMP:20260425T071032
CREATED:20230208T140500Z
LAST-MODIFIED:20230208T140500Z
UID:5370-1689465600-1689551999@camdendeacon.org
SUMMARY:Intentions of the Diaconate Community
DESCRIPTION:
URL:https://camdendeacon.org/event/intentions-of-the-diaconate-community-9/
CATEGORIES:Daily Prayer Intentions
END:VEVENT
BEGIN:VEVENT
DTSTART;VALUE=DATE:20230715
DTEND;VALUE=DATE:20230716
DTSTAMP:20260425T071032
CREATED:20230208T135859Z
LAST-MODIFIED:20230208T135859Z
UID:5367-1689379200-1689465599@camdendeacon.org
SUMMARY:Deacon Thomas F. & Doris O'Brien
DESCRIPTION:
URL:https://camdendeacon.org/event/deacon-thomas-f-doris-obrien/
CATEGORIES:Daily Prayer Intentions
END:VEVENT
BEGIN:VEVENT
DTSTART;VALUE=DATE:20230714
DTEND;VALUE=DATE:20230715
DTSTAMP:20260425T071032
CREATED:20230207T203813Z
LAST-MODIFIED:20230207T203813Z
UID:5364-1689292800-1689379199@camdendeacon.org
SUMMARY:Priests and Parishioners of Saint Elizabeth Ann Seton Parish
DESCRIPTION:
URL:https://camdendeacon.org/event/priests-and-parishioners-of-saint-elizabeth-ann-seton-parish/
CATEGORIES:Daily Prayer Intentions
END:VEVENT
BEGIN:VEVENT
DTSTART;VALUE=DATE:20230713
DTEND;VALUE=DATE:20230714
DTSTAMP:20260425T071032
CREATED:20230207T203653Z
LAST-MODIFIED:20230207T203653Z
UID:5362-1689206400-1689292799@camdendeacon.org
SUMMARY:Deacon Christopher D. & Dale Nichols
DESCRIPTION:
URL:https://camdendeacon.org/event/deacon-christopher-d-dale-nichols/
CATEGORIES:Daily Prayer Intentions
END:VEVENT
BEGIN:VEVENT
DTSTART;VALUE=DATE:20230712
DTEND;VALUE=DATE:20230713
DTSTAMP:20260425T071032
CREATED:20230207T203555Z
LAST-MODIFIED:20230207T203555Z
UID:5360-1689120000-1689206399@camdendeacon.org
SUMMARY:Deacon Charles A. Gorman (d. 1987) & Mrs. Sally Gorman (d. 2018)
DESCRIPTION:
URL:https://camdendeacon.org/event/deacon-charles-a-gorman-d-1987-mrs-sally-gorman-d-2018/
CATEGORIES:Daily Prayer Intentions
END:VEVENT
BEGIN:VEVENT
DTSTART;VALUE=DATE:20230711
DTEND;VALUE=DATE:20230712
DTSTAMP:20260425T071032
CREATED:20230207T203509Z
LAST-MODIFIED:20230207T203509Z
UID:5358-1689033600-1689119999@camdendeacon.org
SUMMARY:Deacon Kim T. & Hoa Nguyen
DESCRIPTION:
URL:https://camdendeacon.org/event/deacon-kim-t-hoa-nguyen/
CATEGORIES:Daily Prayer Intentions
END:VEVENT
BEGIN:VEVENT
DTSTART;VALUE=DATE:20230710
DTEND;VALUE=DATE:20230711
DTSTAMP:20260425T071032
CREATED:20230207T203431Z
LAST-MODIFIED:20230207T203431Z
UID:5356-1688947200-1689033599@camdendeacon.org
SUMMARY:Priests and Parishioners of Saint Vincent de Paul Parish
DESCRIPTION:
URL:https://camdendeacon.org/event/priests-and-parishioners-of-saint-vincent-de-paul-parish/
CATEGORIES:Daily Prayer Intentions
END:VEVENT
BEGIN:VEVENT
DTSTART;VALUE=DATE:20230709
DTEND;VALUE=DATE:20230710
DTSTAMP:20260425T071032
CREATED:20230207T202521Z
LAST-MODIFIED:20230207T202521Z
UID:5354-1688860800-1688947199@camdendeacon.org
SUMMARY:Deacon S. Samuel Nasuti & Mrs. Mitsu Nasuti (d. 2005)
DESCRIPTION:
URL:https://camdendeacon.org/event/deacon-s-samuel-nasuti-mrs-mitsu-nasuti-d-2005/
CATEGORIES:Daily Prayer Intentions
END:VEVENT
BEGIN:VEVENT
DTSTART;VALUE=DATE:20230708
DTEND;VALUE=DATE:20230709
DTSTAMP:20260425T071032
CREATED:20230207T202227Z
LAST-MODIFIED:20230207T202227Z
UID:5352-1688774400-1688860799@camdendeacon.org
SUMMARY:Deacon Santo A. & Judith Nastasi
DESCRIPTION:
URL:https://camdendeacon.org/event/deacon-santo-a-judith-nastasi/
CATEGORIES:Daily Prayer Intentions
END:VEVENT
BEGIN:VEVENT
DTSTART;VALUE=DATE:20230707
DTEND;VALUE=DATE:20230708
DTSTAMP:20260425T071032
CREATED:20230207T202001Z
LAST-MODIFIED:20230207T202001Z
UID:5350-1688688000-1688774399@camdendeacon.org
SUMMARY:Deacon Joseph A. & Linda Murphy
DESCRIPTION:
URL:https://camdendeacon.org/event/deacon-joseph-a-linda-murphy/
CATEGORIES:Daily Prayer Intentions
END:VEVENT
BEGIN:VEVENT
DTSTART;VALUE=DATE:20230706
DTEND;VALUE=DATE:20230707
DTSTAMP:20260425T071032
CREATED:20230207T201901Z
LAST-MODIFIED:20230207T201901Z
UID:5348-1688601600-1688687999@camdendeacon.org
SUMMARY:Deacon David W. & Elaine Murnane
DESCRIPTION:
URL:https://camdendeacon.org/event/deacon-david-w-elaine-murnane/
CATEGORIES:Daily Prayer Intentions
END:VEVENT
BEGIN:VEVENT
DTSTART;VALUE=DATE:20230705
DTEND;VALUE=DATE:20230706
DTSTAMP:20260425T071032
CREATED:20230207T195808Z
LAST-MODIFIED:20230207T195808Z
UID:5346-1688515200-1688601599@camdendeacon.org
SUMMARY:Deacon Nicholas V. & Marilyn Mortelliti
DESCRIPTION:
URL:https://camdendeacon.org/event/deacon-nicholas-v-marilyn-mortelliti/
CATEGORIES:Daily Prayer Intentions
END:VEVENT
BEGIN:VEVENT
DTSTART;VALUE=DATE:20230704
DTEND;VALUE=DATE:20230705
DTSTAMP:20260425T071032
CREATED:20230207T195456Z
LAST-MODIFIED:20230207T195456Z
UID:5344-1688428800-1688515199@camdendeacon.org
SUMMARY:Deacon James W. Kiley (d. 2020) & Mrs. Sandra Kiley
DESCRIPTION:
URL:https://camdendeacon.org/event/deacon-james-w-kiley-d-2020-mrs-sandra-kiley/
CATEGORIES:Daily Prayer Intentions
END:VEVENT
BEGIN:VEVENT
DTSTART;VALUE=DATE:20230703
DTEND;VALUE=DATE:20230704
DTSTAMP:20260425T071032
CREATED:20230207T195354Z
LAST-MODIFIED:20230207T195354Z
UID:5342-1688342400-1688428799@camdendeacon.org
SUMMARY:Priests and Parishioners of Mary\, Queen of All Saints Parish
DESCRIPTION:
URL:https://camdendeacon.org/event/priests-and-parishioners-of-mary-queen-of-all-saints-parish/
CATEGORIES:Daily Prayer Intentions
END:VEVENT
BEGIN:VEVENT
DTSTART;VALUE=DATE:20230702
DTEND;VALUE=DATE:20230703
DTSTAMP:20260425T071032
CREATED:20230207T195303Z
LAST-MODIFIED:20230207T195303Z
UID:5340-1688256000-1688342399@camdendeacon.org
SUMMARY:Deacon Frank Pepe (d. 2013) & Mrs. Maria Pepe (d. 2023)
DESCRIPTION:
URL:https://camdendeacon.org/event/deacon-frank-pepe-d-2013-mrs-maria-pepe-d-2023/
CATEGORIES:Daily Prayer Intentions
END:VEVENT
BEGIN:VEVENT
DTSTART;VALUE=DATE:20230701
DTEND;VALUE=DATE:20230702
DTSTAMP:20260425T071032
CREATED:20230207T193618Z
LAST-MODIFIED:20230207T193618Z
UID:5338-1688169600-1688255999@camdendeacon.org
SUMMARY:Intentions of diaconate administration and formation staff
DESCRIPTION:
URL:https://camdendeacon.org/event/intentions-of-diaconate-administration-and-formation-staff/
CATEGORIES:Daily Prayer Intentions
END:VEVENT
BEGIN:VEVENT
DTSTART;VALUE=DATE:20230630
DTEND;VALUE=DATE:20230701
DTSTAMP:20260425T071032
CREATED:20230207T191903Z
LAST-MODIFIED:20230207T191903Z
UID:5335-1688083200-1688169599@camdendeacon.org
SUMMARY:Deacon Paul F. Johnson (d. 2009) & Mrs. Margaret Johnson (d. 1995); Deacon Matthew J. Hanrahan (d. 2019) & Mrs. Eva Hanrahan (d. 2008)
DESCRIPTION:
URL:https://camdendeacon.org/event/deacon-paul-f-johnson-d-2009-deacon-matthew-j-hanrahan-d-2019-mrs-eva-hanrahan-d-2008/
CATEGORIES:Daily Prayer Intentions
END:VEVENT
BEGIN:VEVENT
DTSTART;VALUE=DATE:20230629
DTEND;VALUE=DATE:20230630
DTSTAMP:20260425T071032
CREATED:20230207T191750Z
LAST-MODIFIED:20230207T191750Z
UID:5333-1687996800-1688083199@camdendeacon.org
SUMMARY:Priests and Parishioners of Incarnation Parish
DESCRIPTION:
URL:https://camdendeacon.org/event/priests-and-parishioners-of-incarnation-parish/
CATEGORIES:Daily Prayer Intentions
END:VEVENT
END:VCALENDAR