BEGIN:VCALENDAR
VERSION:2.0
PRODID:-//Office of Diaconate - ECPv6.15.18//NONSGML v1.0//EN
CALSCALE:GREGORIAN
METHOD:PUBLISH
X-ORIGINAL-URL:https://camdendeacon.org
X-WR-CALDESC:Events for Office of Diaconate
REFRESH-INTERVAL;VALUE=DURATION:PT1H
X-Robots-Tag:noindex
X-PUBLISHED-TTL:PT1H
BEGIN:VTIMEZONE
TZID:America/New_York
BEGIN:DAYLIGHT
TZOFFSETFROM:-0500
TZOFFSETTO:-0400
TZNAME:EDT
DTSTART:20220313T070000
END:DAYLIGHT
BEGIN:STANDARD
TZOFFSETFROM:-0400
TZOFFSETTO:-0500
TZNAME:EST
DTSTART:20221106T060000
END:STANDARD
BEGIN:DAYLIGHT
TZOFFSETFROM:-0500
TZOFFSETTO:-0400
TZNAME:EDT
DTSTART:20230312T070000
END:DAYLIGHT
BEGIN:STANDARD
TZOFFSETFROM:-0400
TZOFFSETTO:-0500
TZNAME:EST
DTSTART:20231105T060000
END:STANDARD
BEGIN:DAYLIGHT
TZOFFSETFROM:-0500
TZOFFSETTO:-0400
TZNAME:EDT
DTSTART:20240310T070000
END:DAYLIGHT
BEGIN:STANDARD
TZOFFSETFROM:-0400
TZOFFSETTO:-0500
TZNAME:EST
DTSTART:20241103T060000
END:STANDARD
END:VTIMEZONE
BEGIN:VEVENT
DTSTART;VALUE=DATE:20230821
DTEND;VALUE=DATE:20230822
DTSTAMP:20260425T065754
CREATED:20230208T165829Z
LAST-MODIFIED:20230208T165829Z
UID:5443-1692576000-1692662399@camdendeacon.org
SUMMARY:Deacon John H. & Cathy Rocks
DESCRIPTION:
URL:https://camdendeacon.org/event/deacon-john-h-cathy-rocks/
CATEGORIES:Daily Prayer Intentions
END:VEVENT
BEGIN:VEVENT
DTSTART;VALUE=DATE:20230820
DTEND;VALUE=DATE:20230821
DTSTAMP:20260425T065754
CREATED:20230208T165739Z
LAST-MODIFIED:20230208T165739Z
UID:5441-1692489600-1692575999@camdendeacon.org
SUMMARY:Deacon Ronald J. Olesiewicz (d. 2011) & Mrs. Regina Olesiewicz (d. 2005)
DESCRIPTION:
URL:https://camdendeacon.org/event/deacon-ronald-j-olesiewicz-d-2011-mrs-regina-olesiewicz-d-2005-2/
CATEGORIES:Daily Prayer Intentions
END:VEVENT
BEGIN:VEVENT
DTSTART;VALUE=DATE:20230819
DTEND;VALUE=DATE:20230820
DTSTAMP:20260425T065754
CREATED:20230208T165332Z
LAST-MODIFIED:20230208T165332Z
UID:5439-1692403200-1692489599@camdendeacon.org
SUMMARY:Priests and Parishioners of Saint Monica Parish
DESCRIPTION:
URL:https://camdendeacon.org/event/priests-and-parishioners-of-saint-monica-parish-2/
CATEGORIES:Daily Prayer Intentions
END:VEVENT
BEGIN:VEVENT
DTSTART;VALUE=DATE:20230818
DTEND;VALUE=DATE:20230819
DTSTAMP:20260425T065754
CREATED:20230208T165249Z
LAST-MODIFIED:20230208T165249Z
UID:5437-1692316800-1692403199@camdendeacon.org
SUMMARY:Priests and Parishioners of Saint Mary of Mount Carmel Parish
DESCRIPTION:
URL:https://camdendeacon.org/event/priests-and-parishioners-of-saint-mary-of-mount-carmel-parish-2/
CATEGORIES:Daily Prayer Intentions
END:VEVENT
BEGIN:VEVENT
DTSTART;TZID=America/New_York:20230817T080000
DTEND;TZID=America/New_York:20230817T170000
DTSTAMP:20260425T065754
CREATED:20230208T165205Z
LAST-MODIFIED:20230208T165205Z
UID:5435-1692259200-1692291600@camdendeacon.org
SUMMARY:Priests and Parishioners of Saint Bridget Parish
DESCRIPTION:
URL:https://camdendeacon.org/event/priests-and-parishioners-of-saint-bridget-parish-2/
CATEGORIES:Daily Prayer Intentions
END:VEVENT
BEGIN:VEVENT
DTSTART;VALUE=DATE:20230816
DTEND;VALUE=DATE:20230817
DTSTAMP:20260425T065754
CREATED:20230208T165118Z
LAST-MODIFIED:20230208T165118Z
UID:5433-1692144000-1692230399@camdendeacon.org
SUMMARY:Priests and Parishioners of Saint Maximilian Kolbe Parish
DESCRIPTION:
URL:https://camdendeacon.org/event/priests-and-parishioners-of-saint-maximilian-kolbe-parish-2/
CATEGORIES:Daily Prayer Intentions
END:VEVENT
BEGIN:VEVENT
DTSTART;VALUE=DATE:20230815
DTEND;VALUE=DATE:20230816
DTSTAMP:20260425T065754
CREATED:20230208T164310Z
LAST-MODIFIED:20230208T164310Z
UID:5431-1692057600-1692143999@camdendeacon.org
SUMMARY:Assumption of the Blessed Virgin Mary
DESCRIPTION:
URL:https://camdendeacon.org/event/assumption-of-the-blessed-virgin-mary-2/
CATEGORIES:Daily Prayer Intentions
END:VEVENT
BEGIN:VEVENT
DTSTART;VALUE=DATE:20230814
DTEND;VALUE=DATE:20230815
DTSTAMP:20260425T065754
CREATED:20230208T162508Z
LAST-MODIFIED:20230208T162508Z
UID:5429-1691971200-1692057599@camdendeacon.org
SUMMARY:Deacon Paul R. Bubeck (d. 2022) & Mrs. Cathy Bubeck
DESCRIPTION:
URL:https://camdendeacon.org/event/deacon-paul-r-bubeck-d-2022-mrs-cathy-bubeck/
CATEGORIES:Daily Prayer Intentions
END:VEVENT
BEGIN:VEVENT
DTSTART;VALUE=DATE:20230813
DTEND;VALUE=DATE:20230814
DTSTAMP:20260425T065754
CREATED:20230208T162422Z
LAST-MODIFIED:20230208T162422Z
UID:5427-1691884800-1691971199@camdendeacon.org
SUMMARY:Deacon Jose R. & Cristina Rios
DESCRIPTION:
URL:https://camdendeacon.org/event/deacon-jose-r-cristina-rios-2/
CATEGORIES:Daily Prayer Intentions
END:VEVENT
BEGIN:VEVENT
DTSTART;VALUE=DATE:20230812
DTEND;VALUE=DATE:20230813
DTSTAMP:20260425T065754
CREATED:20230208T162332Z
LAST-MODIFIED:20230208T162332Z
UID:5425-1691798400-1691884799@camdendeacon.org
SUMMARY:Deacon John D. & Maryanne Rich
DESCRIPTION:
URL:https://camdendeacon.org/event/deacon-john-d-maryanne-rich-2/
CATEGORIES:Daily Prayer Intentions
END:VEVENT
BEGIN:VEVENT
DTSTART;VALUE=DATE:20230811
DTEND;VALUE=DATE:20230812
DTSTAMP:20260425T065754
CREATED:20230208T161938Z
LAST-MODIFIED:20230208T161938Z
UID:5423-1691712000-1691798399@camdendeacon.org
SUMMARY:Priests and Parishioners of Saint Mary Parish\, Gloucester
DESCRIPTION:
URL:https://camdendeacon.org/event/priests-and-parishioners-of-saint-mary-parish-gloucester-2/
CATEGORIES:Daily Prayer Intentions
END:VEVENT
BEGIN:VEVENT
DTSTART;TZID=America/New_York:20230810T080000
DTEND;TZID=America/New_York:20230810T170000
DTSTAMP:20260425T065754
CREATED:20230208T160027Z
LAST-MODIFIED:20230208T160027Z
UID:5421-1691654400-1691686800@camdendeacon.org
SUMMARY:Deacon Angel Ramos Vega & Mrs. Ramona Ramos Vega (d. 2020)
DESCRIPTION:
URL:https://camdendeacon.org/event/deacon-angel-ramos-vega-mrs-ramona-ramos-vega-d-2020/
CATEGORIES:Daily Prayer Intentions
END:VEVENT
BEGIN:VEVENT
DTSTART;VALUE=DATE:20230809
DTEND;VALUE=DATE:20230810
DTSTAMP:20260425T065754
CREATED:20230208T155923Z
LAST-MODIFIED:20230208T155923Z
UID:5419-1691539200-1691625599@camdendeacon.org
SUMMARY:Deacon Joseph G. & Barbara Rafferty
DESCRIPTION:
URL:https://camdendeacon.org/event/deacon-joseph-g-barbara-rafferty-2/
CATEGORIES:Daily Prayer Intentions
END:VEVENT
BEGIN:VEVENT
DTSTART;TZID=America/New_York:20230808T080000
DTEND;TZID=America/New_York:20230808T170000
DTSTAMP:20260425T065754
CREATED:20230208T155626Z
LAST-MODIFIED:20230208T155626Z
UID:5417-1691481600-1691514000@camdendeacon.org
SUMMARY:Deacon Bernardino S. & Rafaela Quiles
DESCRIPTION:
URL:https://camdendeacon.org/event/deacon-bernardino-s-rafaela-quiles-2/
CATEGORIES:Daily Prayer Intentions
END:VEVENT
BEGIN:VEVENT
DTSTART;VALUE=DATE:20230807
DTEND;VALUE=DATE:20230808
DTSTAMP:20260425T065754
CREATED:20230208T155515Z
LAST-MODIFIED:20230208T155515Z
UID:5415-1691366400-1691452799@camdendeacon.org
SUMMARY:Priests and Parishioners of Saint Thomas the Apostle Parish
DESCRIPTION:
URL:https://camdendeacon.org/event/priests-and-parishioners-of-saint-thomas-the-apostle-parish-2/
CATEGORIES:Daily Prayer Intentions
END:VEVENT
BEGIN:VEVENT
DTSTART;VALUE=DATE:20230806
DTEND;VALUE=DATE:20230807
DTSTAMP:20260425T065754
CREATED:20230208T155428Z
LAST-MODIFIED:20230208T155428Z
UID:5413-1691280000-1691366399@camdendeacon.org
SUMMARY:Priests and Parishioners of Our Lady of Hope Parish
DESCRIPTION:
URL:https://camdendeacon.org/event/priests-and-parishioners-of-our-lady-of-hope-parish-2/
CATEGORIES:Daily Prayer Intentions
END:VEVENT
BEGIN:VEVENT
DTSTART;VALUE=DATE:20230805
DTEND;VALUE=DATE:20230806
DTSTAMP:20260425T065754
CREATED:20230208T155250Z
LAST-MODIFIED:20230208T155250Z
UID:5411-1691193600-1691279999@camdendeacon.org
SUMMARY:Deacon Robert V. Raftovich (d. 1999) & Mrs. Rose Raftovich
DESCRIPTION:
URL:https://camdendeacon.org/event/deacon-robert-v-raftovich-d-1999-mrs-rose-raftovich-2/
CATEGORIES:Daily Prayer Intentions
END:VEVENT
BEGIN:VEVENT
DTSTART;VALUE=DATE:20230804
DTEND;VALUE=DATE:20230805
DTSTAMP:20260425T065754
CREATED:20230208T154756Z
LAST-MODIFIED:20230208T154756Z
UID:5409-1691107200-1691193599@camdendeacon.org
SUMMARY:Deacon Peter J. & Regina Powell
DESCRIPTION:
URL:https://camdendeacon.org/event/deacon-peter-j-regina-powell/
CATEGORIES:Daily Prayer Intentions
END:VEVENT
BEGIN:VEVENT
DTSTART;VALUE=DATE:20230803
DTEND;VALUE=DATE:20230804
DTSTAMP:20260425T065754
CREATED:20230208T154710Z
LAST-MODIFIED:20230208T154710Z
UID:5407-1691020800-1691107199@camdendeacon.org
SUMMARY:Deacon Michael L. Welsh (d. 2021) & Mrs. Josephine Welsh
DESCRIPTION:
URL:https://camdendeacon.org/event/deacon-michael-l-welsh-d-2021-mrs-josephine-welsh/
CATEGORIES:Daily Prayer Intentions
END:VEVENT
BEGIN:VEVENT
DTSTART;VALUE=DATE:20230802
DTEND;VALUE=DATE:20230803
DTSTAMP:20260425T065754
CREATED:20230208T154618Z
LAST-MODIFIED:20230208T154618Z
UID:5405-1690934400-1691020799@camdendeacon.org
SUMMARY:Priests and Parishioners of Our Lady of the Blessed Sacrament Parish
DESCRIPTION:
URL:https://camdendeacon.org/event/priests-and-parishioners-of-our-lady-of-the-blessed-sacrament-parish/
CATEGORIES:Daily Prayer Intentions
END:VEVENT
BEGIN:VEVENT
DTSTART;VALUE=DATE:20230801
DTEND;VALUE=DATE:20230802
DTSTAMP:20260425T065754
CREATED:20230208T154146Z
LAST-MODIFIED:20230208T154146Z
UID:5403-1690848000-1690934399@camdendeacon.org
SUMMARY:Deacon Timothy M. Sullivan (d. 2013) & Mrs. Anne Sullivan
DESCRIPTION:
URL:https://camdendeacon.org/event/deacon-timothy-m-sullivan-d-2013-mrs-anne-sullivan/
CATEGORIES:Daily Prayer Intentions
END:VEVENT
BEGIN:VEVENT
DTSTART;VALUE=DATE:20230731
DTEND;VALUE=DATE:20230801
DTSTAMP:20260425T065754
CREATED:20230208T151312Z
LAST-MODIFIED:20230208T151312Z
UID:5400-1690761600-1690847999@camdendeacon.org
SUMMARY:Priests and Parishioners of Most Precious Blood Parish
DESCRIPTION:
URL:https://camdendeacon.org/event/priests-and-parishioners-of-most-precious-blood-parish/
CATEGORIES:Daily Prayer Intentions
END:VEVENT
BEGIN:VEVENT
DTSTART;VALUE=DATE:20230730
DTEND;VALUE=DATE:20230731
DTSTAMP:20260425T065754
CREATED:20230208T151213Z
LAST-MODIFIED:20230208T151213Z
UID:5398-1690675200-1690761599@camdendeacon.org
SUMMARY:Priests and Parishioners of Our Lady of the Lakes Parish
DESCRIPTION:
URL:https://camdendeacon.org/event/priests-and-parishioners-of-our-lady-of-the-lakes-parish/
CATEGORIES:Daily Prayer Intentions
END:VEVENT
BEGIN:VEVENT
DTSTART;VALUE=DATE:20230729
DTEND;VALUE=DATE:20230730
DTSTAMP:20260425T065754
CREATED:20230208T151125Z
LAST-MODIFIED:20230208T151125Z
UID:5396-1690588800-1690675199@camdendeacon.org
SUMMARY:Deacon Alfred T. Porowicz & Mrs. Hedwig Porowicz (d. 1983)
DESCRIPTION:
URL:https://camdendeacon.org/event/deacon-alfred-t-porowicz-mrs-hedwig-porowicz-d-1983/
CATEGORIES:Daily Prayer Intentions
END:VEVENT
BEGIN:VEVENT
DTSTART;VALUE=DATE:20230728
DTEND;VALUE=DATE:20230729
DTSTAMP:20260425T065754
CREATED:20230208T151016Z
LAST-MODIFIED:20230208T152305Z
UID:5394-1690502400-1690588799@camdendeacon.org
SUMMARY:Deacon John W. Enoch (d. 1981) & Mrs. Miriam Enoch
DESCRIPTION:
URL:https://camdendeacon.org/event/deacon-john-w-enoch-d-1981-mrs-miriam-enoch/
CATEGORIES:Daily Prayer Intentions
END:VEVENT
BEGIN:VEVENT
DTSTART;VALUE=DATE:20230727
DTEND;VALUE=DATE:20230728
DTSTAMP:20260425T065754
CREATED:20230208T144612Z
LAST-MODIFIED:20230208T144612Z
UID:5392-1690416000-1690502399@camdendeacon.org
SUMMARY:Priests and Parishioners of Saint Mary Parish\, Cherry Hill
DESCRIPTION:
URL:https://camdendeacon.org/event/priests-and-parishioners-of-saint-mary-parish-cherry-hill/
CATEGORIES:Daily Prayer Intentions
END:VEVENT
BEGIN:VEVENT
DTSTART;VALUE=DATE:20230726
DTEND;VALUE=DATE:20230727
DTSTAMP:20260425T065754
CREATED:20230208T144445Z
LAST-MODIFIED:20230208T144445Z
UID:5390-1690329600-1690415999@camdendeacon.org
SUMMARY:Deacon John M. Mauro (d. 2000); Deacon Felix T. Miranda (d. 2020) & Mrs. Luisa Miranda; Deacon John R. Gallimore (d. 2022) & Mrs. Sarah Gallimore (d. 2016)
DESCRIPTION:
URL:https://camdendeacon.org/event/deacon-john-m-mauro-d-2000-deacon-felix-t-miranda-d-2020-deacon-john-r-gallimore-d-2022-mrs-sarah-gallimore-d-2016/
CATEGORIES:Daily Prayer Intentions
END:VEVENT
BEGIN:VEVENT
DTSTART;VALUE=DATE:20230725
DTEND;VALUE=DATE:20230726
DTSTAMP:20260425T065754
CREATED:20230208T144257Z
LAST-MODIFIED:20230208T144257Z
UID:5388-1690243200-1690329599@camdendeacon.org
SUMMARY:Deacon Harold G. Traxler (d. 2009) & Mrs. Margaret Traxler
DESCRIPTION:
URL:https://camdendeacon.org/event/deacon-harold-g-traxler-d-2009-mrs-margaret-traxler/
CATEGORIES:Daily Prayer Intentions
END:VEVENT
BEGIN:VEVENT
DTSTART;VALUE=DATE:20230724
DTEND;VALUE=DATE:20230725
DTSTAMP:20260425T065754
CREATED:20230208T144202Z
LAST-MODIFIED:20230208T152035Z
UID:5386-1690156800-1690243199@camdendeacon.org
SUMMARY:Deacon Anthony J. Petillo & Mrs. Leslie Petillo (d. 2021)
DESCRIPTION:
URL:https://camdendeacon.org/event/deacon-anthony-j-petillo-leslie-petillo-d-2021/
CATEGORIES:Daily Prayer Intentions
END:VEVENT
BEGIN:VEVENT
DTSTART;VALUE=DATE:20230723
DTEND;VALUE=DATE:20230724
DTSTAMP:20260425T065754
CREATED:20230208T144111Z
LAST-MODIFIED:20230208T144111Z
UID:5384-1690070400-1690156799@camdendeacon.org
SUMMARY:Deacon George J. Peterson
DESCRIPTION:
URL:https://camdendeacon.org/event/deacon-george-j-peterson/
CATEGORIES:Daily Prayer Intentions
END:VEVENT
END:VCALENDAR